Workbook

Sheet Arvutusvorm
B2: kollased väljad on taotlejale info sisestamiseks
B3: oranzid väljad on taotlejale rippmenüüst valiku tegemiseks
B4: valged väljad on sisustatud valemitega, mille tulemusel arvutatakse näitajad automaatselt välja
B6: Projekti üldandmed
B7: Taotleja
B8: Projekti nimi
B9: Projekti kogumaksumus ilma käibemaksuta | D9: €
B10: Toetuse suurus | D10: €
B11: Toetuse osakaal | C11: =IFERROR((C10/C9*100)," ") | D11: %
B12: Taotletakse ainult vähese tähtusega abi | C12: Jah | D12: Valikvastus
B15: Renoveeritava laeva üldandmed
B17: Renoveeritava laeva tüüp | C17: Ro-ro/ro-pax laev (Ro-ro cargo ship) | E17: Valikvastus
B18: Renoveeritud laeva määratlus vastavalt GBER art 1 p. 102 f), d) | C18: keskkonnasõbralik sõiduk | E18: Valikvastus | F18: Viide | G18: EUR-Lex - 02014R0651-20230701 - EUR-Lex
B19: Laev vastab peale renoveerimist nõudele | C19: 5) Mere- ja rannikulaev reisijate- või kaubaveoks, sadamatoiminguteks või abitegevuseks, millel puudub (väljalasketoru) CO2 otseheide | E19: Valikvastus
B20: Renoveeritud laeva mootori tüüp | C20: hübriidmootor | E20: Valikvastus | F20: Valikvastuse "mootor maismaatranspordi ümbersuunamiseks merele" tuleb taotlusega koos esitada eel-lepe veoste tellijaga koos vastava transpordi koguste (t) ja veoste alg-ning lõpp-punktide (km) infoga projektile järgneva viie aasta jooksul. Järelaruannetega tuleb taotlejal vastavaid vedusid ka tõendada. Tegevus on abikõlblik, kui laeva kasutuseesmärgiks on ainult maismaatranspordi ümbersuunamiseks merele tehtavad veosed, laeva hoolduse ja ülevaatuse, talvesadamasse viimise või ohuolukordadega seotud sõidud.
B21: Laeva energiatõhususe indeks EEXI enne ümberehitust | E21: gCO2/tonn-meremiil | G21: Selgitus: palume lisada taotluse juurde EEXI arvutamise asjakohane dokumentatsioon
B22: Laeva energiatõhususe indeks EEXI pärast ümberehitust | E22: gCO2/tonn-meremiil | G22: Selgitus: palume lisada taotluse juurde EEXI arvutamise asjakohane dokumentatsioon
B25: Energiakulu ja kasvuhoonegaaside heite (KHG) koondtulemused arvutatakse välja automaatselt pärast alljärgnevate energiakulu tabelite täitmist. Täita tuleb tabel 1, 1a, 2, 2a, 3 (kui asjakohane).
B28: Koondtulemused
B29: EEXI muutus | C29: =IF(OR(C21="",C22="",C21=0),"",(C21-C22)/C21) | D29: % | E29: Vastavuskriteerium, tulemusnäitaja | H29: Selgitus: renoveerimise tulemusel peab laeva EEXI vähenema vähemalt 10% ehk energiatõhusus suurenema. Arvutamise juhend: 2022 GUIDELINES ON THE METHOD OF CALCULATION OF THE ATTAINED ENERGY EFFICIENCY EXISTING SHIP INDEX (EEXI). | Y29: Link juhendile
B30: Laeva KHG heite muutus pärast renoveerimist | C30: =C113-C71 -> 0 | D30: tCO2e/a | E30: Tulemusnäitaja (negatiivse väärtusega tulemus näitab KHG heite vähenemist, positiivse väärtusega tulemus KHG suurenemist pärast laeva renoveerimist) | H30: Selgitus: Tegelik KHG heitkoguse muutus arvutatakse iga renoveerimisjärgse aasta kohta ja summeeritakse järelaruandes. Taotlemise ajal kasutatakse käesolevas arvutustabelis prognoosnäitajaid, et hinnata ligikaudset kütusekasutust ja KHG heite muutust aastas. Toetuse saaja esitab järelaruande kolm aastat pärast lõppmakse saamist kõigi aastate kaupa. Igal aasta kohta kasutatakse arvutamiseks käesolevat Exceli vormi, kus laeva energiakulu enne renoveerimist on muutumatu väärtus (sama, mis taotluses), kuid uuendatakse vastava aasta tegelikke renoveerimisjärgseid kütustetüüpide ja koguste andmeid. Kolme aasta summaarne KHG heitkoguse muutus peab olema netonegatiivne väärtus ehk kolme aasta jooksul peab toimuma KHG heitkoguste summaarne vähenemine võrreldes esialgse olukorraga.
B31: Laeva mootorid ja kütused vastavad määruse keskkonnasõbraliku sõiduki nõuetele | C31: =IF(C12="Jah","Mittekohalduv",C123) -> Mittekohalduv | E31: Vastavuskriteerium v.a vähese tähtsusega abina toetatavad tegevused (TAT § 7 lõige 1 p 2), väljundnäitaja | H31: Selgitus: vastavuskriteeriumi valikuid on kirjeldatud ja kontrollitud töölehe lõpus
B32: Laeva mootorid ja kütused vastavad määruse heiteta sõiduki nõuetele | C32: =IF(C12="Jah","Mittekohalduv",C124) -> Mittekohalduv | E32: Vastavuskriteerium v.a vähese tähtsusega abina toetatavad tegevused (TAT § 7 lõige 1 p 2), väljundnäitaja | H32: Selgitus: vastavuskriteeriumi valikuid on kirjeldatud ja kontrollitud töölehe lõpus
B33: Kõrvaltegevuste panus laeva KHG heitkoguste vähendamisse, kui toetust antakse kõrvaltegevustele | D33: kirjeldav tekst | E33: Selgitus: Kuna abikõlbulikud kõrvaltegevused nagu näiteks kergema mööblieseme soetamine ei pruugi saavutada toetuse tulemusnäitajate sihtväärtuseid (10% EEXI indeksi vähenemine ja KHG vähenemine kolme aasta KHG heitkoguse muutuse summana), ei ole kõrvaltegevuste mõju arvutamine efektiivne. Palume lühidalt selgitada tekstiliselt, milline on projekti kõrvaltegevuste mõju laeva kasvuhoonegaaside heitkoguste vähendamisele ning kuidas need toetavad projekti eesmärgi saavutamist.
B35: Energiakulu enne laeva renoveerimist Sisestada laeva aastane kütuste- ja elektrikulu. Kütust tarbivateks üksusteks on peamootor(id), abimootor(id), katlad, kütuseelemendid ja jäätmepõletusseadmed. Sisestada nii laeval toodetud heitevaba taastuvelektri tarbimine kui ka kaldaelektri tarbimine. Kütuste kogused sisestada tonnides (vajadusel teha ümberarvutused näidates sisestamisel nii algühikuid kui teisenduskäiku algühikutest tonnidesse (valemi sees). Elektri kogused sisestada MWh-des. Laeval toodetud heitevaba taastuvelektri heite saab lugeda nulliks, kui elekter on toodetud päikesest või tuulest. Kaldaelekter - elekter, mis on laevale tarnitud ja ei ole laeval toodetud. Näiteks laeva akude laadimiseks või sadamas viibimise ajal laeva elektrivarustuse tagamiseks kasutatav elekter. Andmed enne renoveerimist toimunud kütuste kasutuse kohta esitatakse Määruse EL 2023/1085 Art 8 alusel koosatud seirekava alusel vastavalt vormile KOMISJONI RAKENDUSMÄÄRUS (EL) 2024/2031, seirekava ja dokument selle tõendamise kohta kolmanda osapoole poolt listakse taotluse dokumentide juurde. Kui seirekava ei hõlma täit eelnevat kalendriaastat , siis esitada täiendavad tõendusandmed eelneval aastal kasutatud kütuste koguste osas või põhjendatud juhtudel ka kuni viieaastase perioodi kütuste kasutuse keskmiste koguste kohta. Määruse EL 2023/1085 Art 6 l 5 f) alusel on pardal olevad kaldaelektri toitega ühendamise seadmed sertifitseeritud kooskõlas määruse (EL) 2023/1804 II lisas sätestatud merelaevade kaldaelektri toitega ühendamise süsteemide tehnilistele kirjeldustega.
B41: kollased väljad on info sisestamiseks
B42: oranzid väljad on rippmenüüst valiku tegemiseks
B43: valged väljad on sisustatud valemitega, mille tulemusel arvutatakse näitajad automaatselt välja
B45: Tabel 1. Energiakulu enne renoveerimist.
B47: Sisesta esimesele kahele reale elektri tarbimine ja järgmistele kütuste tarbimine seadmete kaupa (nt põhimootor(id), lisamootor(id), katel, kütuseelement, jäätmepõletusseade) | C47: Kütuse/energia tüüp | D47: Kogus aastas | E47: Ühik (elekter MWh, kütused tonnides) | F47: Kütteväärtus, alumine (MJ/g) | G47: Eriheitetegur WtT - allikast paagini, kütuse tootmise ja tarne KHG heide (g CO2ekv/g kütus) | H47: Eriheitetegur TtW - paagist pardani, laevas kütuse kasutamisel toimuv KHG heide (g CO2ekv/g kütus) | I47: Kogus energia-ühikutes (MWh)/a | J47: KHG heide, WtT - allikast paagini, tCO2e/a | K47: KHG heide, WtT - TtW - paagist pardani, tCO2e/a | L47: KHG heide kokku (WtT - TtW - paagist pardani, tCO2e/a | M47: Kütuse osakaal, % | N47: taastuvast energiaallikast pärit kütuste osakaal energiatarbest (MWh/a) | O47: (väljalasketoru) CO2 otseheiteta kütus | P47: (väljalasketoru) CO2 otseheiteta kütuste osakaal energiatarbest, % | Q47: Biokütuse preemiategur - Taastuvenergia direktiivi nõuetele vastavatele bioloogilise päritoluga kütustele kehtib preemiategur 2, muul juhul preemiategur on 1
B48: Kaldaelekter | C48: Elektrienergia (taastumatu elekter võrgust) | E48: MWh/a | G48: =IFERROR(_xlfn.XLOOKUP(C48,Eriheited!$D$124:$D$164,Eriheited!$N$124:$N$164),0) -> 0 | H48: =IFERROR(_xlfn.XLOOKUP(C48,Eriheited!$D$124:$D$164,Eriheited!$M$124:$M$164),0) -> 0 | I48: =D48 -> 0 | J48: =D48*G48 -> 0 | K48: =D48*H48 -> 0 | L48: =J48+K48 -> 0 | M48: =IFERROR((I48/$I$68*100),0) -> 0 | N48: =IFERROR(IF(_xlfn.XLOOKUP(C48,Eriheited!$D$124:$D$166,Eriheited!$B$124:$B$166)="Fossiilkütused",0,I48),0) -> 0 | O48: =IFERROR(_xlfn.XLOOKUP(C48,Eriheited!$D$124:$D$164,Eriheited!$C$124:$C$164)," ") -> jah | P48: =M48*IF(O48="jah",1,0) -> 0 | Q48: =IFERROR(IF(_xlfn.XLOOKUP(C48,Eriheited!$D$124:$D$166,Eriheited!$B$124:$B$166)="Biokütus",2,1)," ") -> 1
B49: Laeval toodetud heitevaba taastuvelekter (täpsusta seade: … ) | C49: Elektrienergia (taastuvelekter lokaalne) | E49: MWh/a | G49: =IFERROR(_xlfn.XLOOKUP(C49,Eriheited!$D$124:$D$164,Eriheited!$N$124:$N$164),0) -> 0 | H49: =IFERROR(_xlfn.XLOOKUP(C49,Eriheited!$D$124:$D$164,Eriheited!$M$124:$M$164),0) -> 0 | I49: =D49 -> 0 | J49: =D49*G49 -> 0 | K49: =D49*H49 -> 0 | L49: =J49+K49 -> 0 | M49: =IFERROR((I49/$I$68*100),0) -> 0 | N49: =IFERROR(IF(_xlfn.XLOOKUP(C49,Eriheited!$D$124:$D$166,Eriheited!$B$124:$B$166)="Fossiilkütused",0,I49),0) -> 0 | O49: =IFERROR(_xlfn.XLOOKUP(C49,Eriheited!$D$124:$D$164,Eriheited!$C$124:$C$164)," ") -> jah | P49: =M49*IF(O49="jah",1,0) -> 0 | Q49: =IFERROR(IF(_xlfn.XLOOKUP(C49,Eriheited!$D$124:$D$166,Eriheited!$B$124:$B$166)="Biokütus",2,1)," ") -> 1
B50: Seade: … | C50: Laeva diislikütus | E50: t/a | F50: =IFERROR(_xlfn.XLOOKUP(C50,Eriheited!$D$124:$D$164,Eriheited!$F$124:$F$164),0) -> 0.0427 | G50: =IFERROR(_xlfn.XLOOKUP(C50,Eriheited!$D$124:$D$164,Eriheited!$N$124:$N$164),0) -> 0.61488 | H50: =IFERROR(_xlfn.XLOOKUP(C50,Eriheited!$D$124:$D$164,Eriheited!$M$124:$M$164),0) -> 3.26089 | I50: =D50*1000000*F50*Ümberarvutused!$H$17 -> 0 | J50: =D50*G50 -> 0 | K50: =D50*H50 -> 0 | L50: =J50+K50 -> 0 | M50: =IFERROR((I50/$I$68*100),0) -> 0 | N50: =IFERROR(IF(_xlfn.XLOOKUP(C50,Eriheited!$D$124:$D$166,Eriheited!$B$124:$B$166)="Fossiilkütused",0,I50),0) -> 0 | O50: =IFERROR(_xlfn.XLOOKUP(C50,Eriheited!$D$124:$D$164,Eriheited!$C$124:$C$164)," ") -> ei | P50: =M50*IF(O50="jah",1,0) -> 0 | Q50: =IFERROR(IF(_xlfn.XLOOKUP(C50,Eriheited!$D$124:$D$166,Eriheited!$B$124:$B$166)="Biokütus",2,1)," ") -> 1
B51: Seade: … | C51: Laeva diislikütus | E51: t/a | F51: =IFERROR(_xlfn.XLOOKUP(C51,Eriheited!$D$124:$D$164,Eriheited!$F$124:$F$164),0) -> 0.0427 | G51: =IFERROR(_xlfn.XLOOKUP(C51,Eriheited!$D$124:$D$164,Eriheited!$N$124:$N$164),0) -> 0.61488 | H51: =IFERROR(_xlfn.XLOOKUP(C51,Eriheited!$D$124:$D$164,Eriheited!$M$124:$M$164),0) -> 3.26089 | I51: =D51*1000000*F51*Ümberarvutused!$H$17 -> 0 | J51: =D51*G51 -> 0 | K51: =D51*H51 -> 0 | L51: =J51+K51 -> 0 | M51: =IFERROR((I51/$I$68*100),0) -> 0 | N51: =IFERROR(IF(_xlfn.XLOOKUP(C51,Eriheited!$D$124:$D$166,Eriheited!$B$124:$B$166)="Fossiilkütused",0,I51),0) -> 0 | O51: =IFERROR(_xlfn.XLOOKUP(C51,Eriheited!$D$124:$D$164,Eriheited!$C$124:$C$164)," ") -> ei | P51: =M51*IF(O51="jah",1,0) -> 0 | Q51: =IFERROR(IF(_xlfn.XLOOKUP(C51,Eriheited!$D$124:$D$166,Eriheited!$B$124:$B$166)="Biokütus",2,1)," ") -> 1
B52: Seade: … | C52: Kütuse valik | E52: t/a | F52: =IFERROR(_xlfn.XLOOKUP(C52,Eriheited!$D$124:$D$164,Eriheited!$F$124:$F$164),0) -> 0 | G52: =IFERROR(_xlfn.XLOOKUP(C52,Eriheited!$D$124:$D$164,Eriheited!$N$124:$N$164),0) -> 0 | H52: =IFERROR(_xlfn.XLOOKUP(C52,Eriheited!$D$124:$D$164,Eriheited!$M$124:$M$164),0) -> 0 | I52: =D52*1000000*F52*Ümberarvutused!$H$17 -> 0 | J52: =D52*G52 -> 0 | K52: =D52*H52 -> 0 | L52: =J52+K52 -> 0 | M52: =IFERROR((I52/$I$68*100),0) -> 0 | N52: =IFERROR(IF(_xlfn.XLOOKUP(C52,Eriheited!$D$124:$D$166,Eriheited!$B$124:$B$166)="Fossiilkütused",0,I52),0) -> 0 | O52: =IFERROR(_xlfn.XLOOKUP(C52,Eriheited!$D$124:$D$164,Eriheited!$C$124:$C$164)," ") | P52: =M52*IF(O52="jah",1,0) -> 0 | Q52: =IFERROR(IF(_xlfn.XLOOKUP(C52,Eriheited!$D$124:$D$166,Eriheited!$B$124:$B$166)="Biokütus",2,1)," ")
B53: Seade: … | C53: Kütuse valik | E53: t/a | F53: =IFERROR(_xlfn.XLOOKUP(C53,Eriheited!$D$124:$D$164,Eriheited!$F$124:$F$164),0) -> 0 | G53: =IFERROR(_xlfn.XLOOKUP(C53,Eriheited!$D$124:$D$164,Eriheited!$N$124:$N$164),0) -> 0 | H53: =IFERROR(_xlfn.XLOOKUP(C53,Eriheited!$D$124:$D$164,Eriheited!$M$124:$M$164),0) -> 0 | I53: =D53*1000000*F53*Ümberarvutused!$H$17 -> 0 | J53: =D53*G53 -> 0 | K53: =D53*H53 -> 0 | L53: =J53+K53 -> 0 | M53: =IFERROR((I53/$I$68*100),0) -> 0 | N53: =IFERROR(IF(_xlfn.XLOOKUP(C53,Eriheited!$D$124:$D$166,Eriheited!$B$124:$B$166)="Fossiilkütused",0,I53),0) -> 0 | O53: =IFERROR(_xlfn.XLOOKUP(C53,Eriheited!$D$124:$D$164,Eriheited!$C$124:$C$164)," ") | P53: =M53*IF(O53="jah",1,0) -> 0 | Q53: =IFERROR(IF(_xlfn.XLOOKUP(C53,Eriheited!$D$124:$D$166,Eriheited!$B$124:$B$166)="Biokütus",2,1)," ")
B54: Seade: … | C54: Kütuse valik | E54: t/a | F54: =IFERROR(_xlfn.XLOOKUP(C54,Eriheited!$D$124:$D$164,Eriheited!$F$124:$F$164),0) -> 0 | G54: =IFERROR(_xlfn.XLOOKUP(C54,Eriheited!$D$124:$D$164,Eriheited!$N$124:$N$164),0) -> 0 | H54: =IFERROR(_xlfn.XLOOKUP(C54,Eriheited!$D$124:$D$164,Eriheited!$M$124:$M$164),0) -> 0 | I54: =D54*1000000*F54*Ümberarvutused!$H$17 -> 0 | J54: =D54*G54 -> 0 | K54: =D54*H54 -> 0 | L54: =J54+K54 -> 0 | M54: =IFERROR((I54/$I$68*100),0) -> 0 | N54: =IFERROR(IF(_xlfn.XLOOKUP(C54,Eriheited!$D$124:$D$166,Eriheited!$B$124:$B$166)="Fossiilkütused",0,I54),0) -> 0 | O54: =IFERROR(_xlfn.XLOOKUP(C54,Eriheited!$D$124:$D$164,Eriheited!$C$124:$C$164)," ") | P54: =M54*IF(O54="jah",1,0) -> 0 | Q54: =IFERROR(IF(_xlfn.XLOOKUP(C54,Eriheited!$D$124:$D$166,Eriheited!$B$124:$B$166)="Biokütus",2,1)," ")
B55: Seade: … | C55: Kütuse valik | E55: t/a | F55: =IFERROR(_xlfn.XLOOKUP(C55,Eriheited!$D$124:$D$164,Eriheited!$F$124:$F$164),0) -> 0 | G55: =IFERROR(_xlfn.XLOOKUP(C55,Eriheited!$D$124:$D$164,Eriheited!$N$124:$N$164),0) -> 0 | H55: =IFERROR(_xlfn.XLOOKUP(C55,Eriheited!$D$124:$D$164,Eriheited!$M$124:$M$164),0) -> 0 | I55: =D55*1000000*F55*Ümberarvutused!$H$17 -> 0 | J55: =D55*G55 -> 0 | K55: =D55*H55 -> 0 | L55: =J55+K55 -> 0 | M55: =IFERROR((I55/$I$68*100),0) -> 0 | N55: =IFERROR(IF(_xlfn.XLOOKUP(C55,Eriheited!$D$124:$D$166,Eriheited!$B$124:$B$166)="Fossiilkütused",0,I55),0) -> 0 | O55: =IFERROR(_xlfn.XLOOKUP(C55,Eriheited!$D$124:$D$164,Eriheited!$C$124:$C$164)," ") | P55: =M55*IF(O55="jah",1,0) -> 0 | Q55: =IFERROR(IF(_xlfn.XLOOKUP(C55,Eriheited!$D$124:$D$166,Eriheited!$B$124:$B$166)="Biokütus",2,1)," ")
B56: Seade: … | C56: Kütuse valik | E56: t/a | F56: =IFERROR(_xlfn.XLOOKUP(C56,Eriheited!$D$124:$D$164,Eriheited!$F$124:$F$164),0) -> 0 | G56: =IFERROR(_xlfn.XLOOKUP(C56,Eriheited!$D$124:$D$164,Eriheited!$N$124:$N$164),0) -> 0 | H56: =IFERROR(_xlfn.XLOOKUP(C56,Eriheited!$D$124:$D$164,Eriheited!$M$124:$M$164),0) -> 0 | I56: =D56*1000000*F56*Ümberarvutused!$H$17 -> 0 | J56: =D56*G56 -> 0 | K56: =D56*H56 -> 0 | L56: =J56+K56 -> 0 | M56: =IFERROR((I56/$I$68*100),0) -> 0 | N56: =IFERROR(IF(_xlfn.XLOOKUP(C56,Eriheited!$D$124:$D$166,Eriheited!$B$124:$B$166)="Fossiilkütused",0,I56),0) -> 0 | O56: =IFERROR(_xlfn.XLOOKUP(C56,Eriheited!$D$124:$D$164,Eriheited!$C$124:$C$164)," ") | P56: =M56*IF(O56="jah",1,0) -> 0 | Q56: =IFERROR(IF(_xlfn.XLOOKUP(C56,Eriheited!$D$124:$D$166,Eriheited!$B$124:$B$166)="Biokütus",2,1)," ")
B57: Seade: … | C57: Kütuse valik | E57: t/a | F57: =IFERROR(_xlfn.XLOOKUP(C57,Eriheited!$D$124:$D$164,Eriheited!$F$124:$F$164),0) -> 0 | G57: =IFERROR(_xlfn.XLOOKUP(C57,Eriheited!$D$124:$D$164,Eriheited!$N$124:$N$164),0) -> 0 | H57: =IFERROR(_xlfn.XLOOKUP(C57,Eriheited!$D$124:$D$164,Eriheited!$M$124:$M$164),0) -> 0 | I57: =D57*1000000*F57*Ümberarvutused!$H$17 -> 0 | J57: =D57*G57 -> 0 | K57: =D57*H57 -> 0 | L57: =J57+K57 -> 0 | M57: =IFERROR((I57/$I$68*100),0) -> 0 | N57: =IFERROR(IF(_xlfn.XLOOKUP(C57,Eriheited!$D$124:$D$166,Eriheited!$B$124:$B$166)="Fossiilkütused",0,I57),0) -> 0 | O57: =IFERROR(_xlfn.XLOOKUP(C57,Eriheited!$D$124:$D$164,Eriheited!$C$124:$C$164)," ") | P57: =M57*IF(O57="jah",1,0) -> 0 | Q57: =IFERROR(IF(_xlfn.XLOOKUP(C57,Eriheited!$D$124:$D$166,Eriheited!$B$124:$B$166)="Biokütus",2,1)," ")
B58: Seade: … | C58: Kütuse valik | E58: t/a | F58: =IFERROR(_xlfn.XLOOKUP(C58,Eriheited!$D$124:$D$164,Eriheited!$F$124:$F$164),0) -> 0 | G58: =IFERROR(_xlfn.XLOOKUP(C58,Eriheited!$D$124:$D$164,Eriheited!$N$124:$N$164),0) -> 0 | H58: =IFERROR(_xlfn.XLOOKUP(C58,Eriheited!$D$124:$D$164,Eriheited!$M$124:$M$164),0) -> 0 | I58: =D58*1000000*F58*Ümberarvutused!$H$17 -> 0 | J58: =D58*G58 -> 0 | K58: =D58*H58 -> 0 | L58: =J58+K58 -> 0 | M58: =IFERROR((I58/$I$68*100),0) -> 0 | N58: =IFERROR(IF(_xlfn.XLOOKUP(C58,Eriheited!$D$124:$D$166,Eriheited!$B$124:$B$166)="Fossiilkütused",0,I58),0) -> 0 | O58: =IFERROR(_xlfn.XLOOKUP(C58,Eriheited!$D$124:$D$164,Eriheited!$C$124:$C$164)," ") | P58: =M58*IF(O58="jah",1,0) -> 0 | Q58: =IFERROR(IF(_xlfn.XLOOKUP(C58,Eriheited!$D$124:$D$166,Eriheited!$B$124:$B$166)="Biokütus",2,1)," ")
B59: Seade: … | C59: Kütuse valik | E59: t/a | F59: =IFERROR(_xlfn.XLOOKUP(C59,Eriheited!$D$124:$D$164,Eriheited!$F$124:$F$164),0) -> 0 | G59: =IFERROR(_xlfn.XLOOKUP(C59,Eriheited!$D$124:$D$164,Eriheited!$N$124:$N$164),0) -> 0 | H59: =IFERROR(_xlfn.XLOOKUP(C59,Eriheited!$D$124:$D$164,Eriheited!$M$124:$M$164),0) -> 0 | I59: =D59*1000000*F59*Ümberarvutused!$H$17 -> 0 | J59: =D59*G59 -> 0 | K59: =D59*H59 -> 0 | L59: =J59+K59 -> 0 | M59: =IFERROR((I59/$I$68*100),0) -> 0 | N59: =IFERROR(IF(_xlfn.XLOOKUP(C59,Eriheited!$D$124:$D$166,Eriheited!$B$124:$B$166)="Fossiilkütused",0,I59),0) -> 0 | O59: =IFERROR(_xlfn.XLOOKUP(C59,Eriheited!$D$124:$D$164,Eriheited!$C$124:$C$164)," ") | P59: =M59*IF(O59="jah",1,0) -> 0 | Q59: =IFERROR(IF(_xlfn.XLOOKUP(C59,Eriheited!$D$124:$D$166,Eriheited!$B$124:$B$166)="Biokütus",2,1)," ")
B60: Seade: … | C60: Kütuse valik | E60: t/a | F60: =IFERROR(_xlfn.XLOOKUP(C60,Eriheited!$D$124:$D$164,Eriheited!$F$124:$F$164),0) -> 0 | G60: =IFERROR(_xlfn.XLOOKUP(C60,Eriheited!$D$124:$D$164,Eriheited!$N$124:$N$164),0) -> 0 | H60: =IFERROR(_xlfn.XLOOKUP(C60,Eriheited!$D$124:$D$164,Eriheited!$M$124:$M$164),0) -> 0 | I60: =D60*1000000*F60*Ümberarvutused!$H$17 -> 0 | J60: =D60*G60 -> 0 | K60: =D60*H60 -> 0 | L60: =J60+K60 -> 0 | M60: =IFERROR((I60/$I$68*100),0) -> 0 | N60: =IFERROR(IF(_xlfn.XLOOKUP(C60,Eriheited!$D$124:$D$166,Eriheited!$B$124:$B$166)="Fossiilkütused",0,I60),0) -> 0 | O60: =IFERROR(_xlfn.XLOOKUP(C60,Eriheited!$D$124:$D$164,Eriheited!$C$124:$C$164)," ") | P60: =M60*IF(O60="jah",1,0) -> 0 | Q60: =IFERROR(IF(_xlfn.XLOOKUP(C60,Eriheited!$D$124:$D$166,Eriheited!$B$124:$B$166)="Biokütus",2,1)," ")
B61: Seade: … | C61: Kütuse valik | E61: t/a | F61: =IFERROR(_xlfn.XLOOKUP(C61,Eriheited!$D$124:$D$164,Eriheited!$F$124:$F$164),0) -> 0 | G61: =IFERROR(_xlfn.XLOOKUP(C61,Eriheited!$D$124:$D$164,Eriheited!$N$124:$N$164),0) -> 0 | H61: =IFERROR(_xlfn.XLOOKUP(C61,Eriheited!$D$124:$D$164,Eriheited!$M$124:$M$164),0) -> 0 | I61: =D61*1000000*F61*Ümberarvutused!$H$17 -> 0 | J61: =D61*G61 -> 0 | K61: =D61*H61 -> 0 | L61: =J61+K61 -> 0 | M61: =IFERROR((I61/$I$68*100),0) -> 0 | N61: =IFERROR(IF(_xlfn.XLOOKUP(C61,Eriheited!$D$124:$D$166,Eriheited!$B$124:$B$166)="Fossiilkütused",0,I61),0) -> 0 | O61: =IFERROR(_xlfn.XLOOKUP(C61,Eriheited!$D$124:$D$164,Eriheited!$C$124:$C$164)," ") | P61: =M61*IF(O61="jah",1,0) -> 0 | Q61: =IFERROR(IF(_xlfn.XLOOKUP(C61,Eriheited!$D$124:$D$166,Eriheited!$B$124:$B$166)="Biokütus",2,1)," ")
... B67: Seade: … | C67: Kütuse valik | E67: t/a | F67: =IFERROR(_xlfn.XLOOKUP(C67,Eriheited!$D$124:$D$164,Eriheited!$F$124:$F$164),0) -> 0 | G67: =IFERROR(_xlfn.XLOOKUP(C67,Eriheited!$D$124:$D$164,Eriheited!$N$124:$N$164),0) -> 0 | H67: =IFERROR(_xlfn.XLOOKUP(C67,Eriheited!$D$124:$D$164,Eriheited!$M$124:$M$164),0) -> 0 | I67: =D67*1000000*F67*Ümberarvutused!$H$17 -> 0 | J67: =D67*G67 -> 0 | K67: =D67*H67 -> 0 | L67: =J67+K67 -> 0 | M67: =IFERROR((I67/$I$68*100),0) -> 0 | N67: =IFERROR(IF(_xlfn.XLOOKUP(C67,Eriheited!$D$124:$D$166,Eriheited!$B$124:$B$166)="Fossiilkütused",0,I67),0) -> 0 | O67: =IFERROR(_xlfn.XLOOKUP(C67,Eriheited!$D$124:$D$164,Eriheited!$C$124:$C$164)," ") | P67: =M67*IF(O67="jah",1,0) -> 0 | Q67: =IFERROR(IF(_xlfn.XLOOKUP(C67,Eriheited!$D$124:$D$166,Eriheited!$B$124:$B$166)="Biokütus",2,1)," ")
B68: KOKKU | I68: =SUM(I48:I67) -> 0 | J68: =SUM(J48:J67) -> 0 | K68: =SUM(K48:K67) -> 0 | L68: =SUM(L48:L67) -> 0 | M68: =SUM(M48:M67) -> 0 | N68: =SUM(N48:N67) -> 0 | P68: =SUM(P48:P67) -> 0
B70: Tabel 1a. Laeva KHG heitemahukus enne renoveerimist.
B71: Laeva KHG heide enne renoveerimist | C71: =L68 -> 0 | D71: tCO2e/a
B72: fwind - Tuuleenergial põhineva veojõu preemiategur - lisada preemiateguri saamiseks kasutatud andmed ja arvutuskäik Töölehlele Preemiategur lähutvalt Määruse EL 2023/1085 Lisa 1 toodud võrranditest
B73: KHG heitemahukus = fwind*(WtT+TtW ) | C73: =((1*C71)/I68)/Ümberarvutused!$I$13*1000000 -> #DIV/0! | D73: gCO2e/MJ
B74: Laeva KHG heitemahukuse võrdlusväärtus - maksimaalne lubatud väärtus vastavalt määrusele (EL) 2023/1805 alates 2025. aastast) | C74: =$B$155 -> 89.3368 | D74: gCO2e/MJ
C76: Andmed peale renoveerimist toimuva kütuste kasutuse kohta esitatakse vastavalt 1) planeeritavate seadmete tootja poolt esitatud spetsifikatsioonidele ja 2) laeva senisele keskmisele aastasele kilometraazile, mille arvutuskäigu võib esitada eelmise aasta või, põhjendatud juhtumitel, kuni viie eelneva aasta keskmise kilometraazi alusel arvutatuna koos tõendava dokumentasiooniga.
B77: Tabel 2. Energiakulu pärast renoveerimist.
B79: Energiakulu pärast laeva renoveerimist Sisestada laeva aastane kütuste- ja elektrikulu pärast renoveerimist. Kütuste kogused sisestada tonnides (vajadusel teha ümberarvutused näidates sisestamisel nii algühikuid kui teisenduskäiku algühikutest tonnidesse (valemi sees). Elektri kogused sisestada MWh-des. Andmed pärast renoveerimist toimuva kütuste kasutuse kohta esitatakse vastavalt 1) planeeritavate seadmete tootja poolt esitatud spetsifikatsioonidele ja 2) laeva senisele keskmisele aastasele kilometraazile, mille arvutuskäigu võib esitada eelmise aasta kohta või, põhjendatud juhtumitel, kuni viie eelneva aasta keskmise kilometraazi alusel arvutatuna koos tõendava dokumentatsiooniga. Kütust tarbivateks üksusteks on peamootor(id), abimootor(id), katlad, kütuseelemendid ja jäätmepõletusseadmed. Sisestada nii laeval toodetud heitevaba taastuvelektri tarbimine kui ka kaldaelektri tarbimine. Laeval toodetud heitevaba taastuvelektri heite saab lugeda nulliks, kui elekter on toodetud päikesest või tuulest. Kaldaelekter - elekter, mis on laevale tarnitud ja ei ole laeval toodetud. Näiteks laeva akude laadimiseks või sadamas viibimise ajal laeva elektrivarustuse tagamiseks kasutatav elekter. Määruse EL 2023/1085 Art 6 l 5 f) alusel on pardal olevad kaldaelektri toitega ühendamise seadmed sertifitseeritud kooskõlas määruse (EL) 2023/1804 II lisas sätestatud merelaevade kaldaelektri toitega ühendamise süsteemide tehnilistele kirjeldustega.
B85: kollased väljad on info sisestamiseks
B86: oranzid väljad on rippmenüüst valiku tegemiseks
B87: valged väljad on sisustatud valemitega, mille tulemusel arvutatakse näitajad automaatselt välja
B89: Sisesta esimesele kahele reale elektri tarbimine ja järgmistele kütuste tarbimine seadmete kaupa (nt põhimootor(id), lisamootor(id), katel, kütuseelement, jäätmepõletusseade) | C89: Kütuse/energia tüüp | D89: Kogus aastas | E89: Ühik (elekter MWh, kütused tonnides) | F89: Kütteväärtus, alumine (MJ/g) | G89: Eriheitetegur WtT - allikast paagini, kütuse tootmise ja tarne KHG heide (g CO2ekv/g kütus) | H89: Eriheitetegur TtW - paagist pardani, laevas kütuse kasutamisel toimuv KHG heide (g CO2ekv/g kütus) | I89: Kogus energia-ühikutes (MWh)/a | J89: KHG heide, WtT - allikast paagini, tCO2e/a | K89: KHG heide, WtT - TtW - paagist pardani, tCO2e/a | L89: KHG heide kokku (WtT - TtW - paagist pardani, tCO2e/a | M89: Kütuse osakaal, % | N89: taastuvast energiaallikast pärit kütuste osakaal energiatarbest (MWh/a) | O89: (väljalasketoru) CO2 otseheiteta kütus | P89: (väljalasketoru) CO2 otseheiteta kütuste osakaal energiatarbest, % | Q89: Biokütuse preemiategur - Taastuvenergia direktiivi nõuetele vastavatele bioloogilise päritoluga kütustele kehtib preemiategur 2, muul juhul preemiategur on 1
B90: Kaldaelekter | C90: Elektrienergia (taastuvelekter võrgust) | E90: MWh/a | G90: =IFERROR(_xlfn.XLOOKUP(C90,Eriheited!$D$124:$D$164,Eriheited!$N$124:$N$164),0) -> 0 | H90: =IFERROR(_xlfn.XLOOKUP(C90,Eriheited!$D$124:$D$164,Eriheited!$M$124:$M$164),0) -> 0 | I90: =D90 -> 0 | J90: =D90*G90 -> 0 | K90: =D90*H90 -> 0 | L90: =J90+K90 -> 0 | M90: =IFERROR((I90/$I$110*100),0) -> 0 | N90: =IFERROR(IF(_xlfn.XLOOKUP(C90,Eriheited!$D$124:$D$166,Eriheited!$B$124:$B$166)="Fossiilkütused",0,I90),0) -> 0 | O90: =IFERROR(_xlfn.XLOOKUP(C90,Eriheited!$D$124:$D$164,Eriheited!$C$124:$C$164)," ") -> jah | P90: =M90*IF(O90="jah",1,0) -> 0 | Q90: =IFERROR(IF(_xlfn.XLOOKUP(C90,Eriheited!$D$124:$D$166,Eriheited!$B$124:$B$166)="Biokütus",2,1)," ") -> 1
B91: Laeval toodetud heitevaba taastuvelekter (täpsusta seade: … ) | C91: Elektrienergia (taastuvelekter lokaalne) | E91: MWh/a | G91: =IFERROR(_xlfn.XLOOKUP(C91,Eriheited!$D$124:$D$164,Eriheited!$N$124:$N$164),0) -> 0 | H91: =IFERROR(_xlfn.XLOOKUP(C91,Eriheited!$D$124:$D$164,Eriheited!$M$124:$M$164),0) -> 0 | I91: =D91 -> 0 | J91: =D91*G91 -> 0 | K91: =D91*H91 -> 0 | L91: =J91+K91 -> 0 | M91: =IFERROR((I91/$I$110*100),0) -> 0 | N91: =IFERROR(IF(_xlfn.XLOOKUP(C91,Eriheited!$D$124:$D$166,Eriheited!$B$124:$B$166)="Fossiilkütused",0,I91),0) -> 0 | O91: =IFERROR(_xlfn.XLOOKUP(C91,Eriheited!$D$124:$D$164,Eriheited!$C$124:$C$164)," ") -> jah | P91: =M91*IF(O91="jah",1,0) -> 0 | Q91: =IFERROR(IF(_xlfn.XLOOKUP(C91,Eriheited!$D$124:$D$166,Eriheited!$B$124:$B$166)="Biokütus",2,1)," ") -> 1
B92: Seade: … | C92: Kütuse valik | E92: t/a | F92: =IFERROR(_xlfn.XLOOKUP(C92,Eriheited!$D$124:$D$164,Eriheited!$F$124:$F$164),0) -> 0 | G92: =IFERROR(_xlfn.XLOOKUP(C92,Eriheited!$D$124:$D$164,Eriheited!$N$124:$N$164),0) -> 0 | H92: =IFERROR(_xlfn.XLOOKUP(C92,Eriheited!$D$124:$D$164,Eriheited!$M$124:$M$164),0) -> 0 | I92: =D92*1000000*F92*Ümberarvutused!$H$17 -> 0 | J92: =D92*G92 -> 0 | K92: =D92*H92 -> 0 | L92: =J92+K92 -> 0 | M92: =IFERROR((I92/$I$110*100),0) -> 0 | N92: =IFERROR(IF(_xlfn.XLOOKUP(C92,Eriheited!$D$124:$D$166,Eriheited!$B$124:$B$166)="Fossiilkütused",0,I92),0) -> 0 | O92: =IFERROR(_xlfn.XLOOKUP(C92,Eriheited!$D$124:$D$164,Eriheited!$C$124:$C$164)," ") | P92: =M92*IF(O92="jah",1,0) -> 0 | Q92: =IFERROR(IF(_xlfn.XLOOKUP(C92,Eriheited!$D$124:$D$166,Eriheited!$B$124:$B$166)="Biokütus",2,1)," ")
B93: Seade: … | C93: Kütuse valik | E93: t/a | F93: =IFERROR(_xlfn.XLOOKUP(C93,Eriheited!$D$124:$D$164,Eriheited!$F$124:$F$164),0) -> 0 | G93: =IFERROR(_xlfn.XLOOKUP(C93,Eriheited!$D$124:$D$164,Eriheited!$N$124:$N$164),0) -> 0 | H93: =IFERROR(_xlfn.XLOOKUP(C93,Eriheited!$D$124:$D$164,Eriheited!$M$124:$M$164),0) -> 0 | I93: =D93*1000000*F93*Ümberarvutused!$H$17 -> 0 | J93: =D93*G93 -> 0 | K93: =D93*H93 -> 0 | L93: =J93+K93 -> 0 | M93: =IFERROR((I93/$I$110*100),0) -> 0 | N93: =IFERROR(IF(_xlfn.XLOOKUP(C93,Eriheited!$D$124:$D$166,Eriheited!$B$124:$B$166)="Fossiilkütused",0,I93),0) -> 0 | O93: =IFERROR(_xlfn.XLOOKUP(C93,Eriheited!$D$124:$D$164,Eriheited!$C$124:$C$164)," ") | P93: =M93*IF(O93="jah",1,0) -> 0 | Q93: =IFERROR(IF(_xlfn.XLOOKUP(C93,Eriheited!$D$124:$D$166,Eriheited!$B$124:$B$166)="Biokütus",2,1)," ")
B94: Seade: … | C94: Kütuse valik | E94: t/a | F94: =IFERROR(_xlfn.XLOOKUP(C94,Eriheited!$D$124:$D$164,Eriheited!$F$124:$F$164),0) -> 0 | G94: =IFERROR(_xlfn.XLOOKUP(C94,Eriheited!$D$124:$D$164,Eriheited!$N$124:$N$164),0) -> 0 | H94: =IFERROR(_xlfn.XLOOKUP(C94,Eriheited!$D$124:$D$164,Eriheited!$M$124:$M$164),0) -> 0 | I94: =D94*1000000*F94*Ümberarvutused!$H$17 -> 0 | J94: =D94*G94 -> 0 | K94: =D94*H94 -> 0 | L94: =J94+K94 -> 0 | M94: =IFERROR((I94/$I$110*100),0) -> 0 | N94: =IFERROR(IF(_xlfn.XLOOKUP(C94,Eriheited!$D$124:$D$166,Eriheited!$B$124:$B$166)="Fossiilkütused",0,I94),0) -> 0 | O94: =IFERROR(_xlfn.XLOOKUP(C94,Eriheited!$D$124:$D$164,Eriheited!$C$124:$C$164)," ") | P94: =M94*IF(O94="jah",1,0) -> 0 | Q94: =IFERROR(IF(_xlfn.XLOOKUP(C94,Eriheited!$D$124:$D$166,Eriheited!$B$124:$B$166)="Biokütus",2,1)," ")
B95: Seade: … | C95: Kütuse valik | E95: t/a | F95: =IFERROR(_xlfn.XLOOKUP(C95,Eriheited!$D$124:$D$164,Eriheited!$F$124:$F$164),0) -> 0 | G95: =IFERROR(_xlfn.XLOOKUP(C95,Eriheited!$D$124:$D$164,Eriheited!$N$124:$N$164),0) -> 0 | H95: =IFERROR(_xlfn.XLOOKUP(C95,Eriheited!$D$124:$D$164,Eriheited!$M$124:$M$164),0) -> 0 | I95: =D95*1000000*F95*Ümberarvutused!$H$17 -> 0 | J95: =D95*G95 -> 0 | K95: =D95*H95 -> 0 | L95: =J95+K95 -> 0 | M95: =IFERROR((I95/$I$110*100),0) -> 0 | N95: =IFERROR(IF(_xlfn.XLOOKUP(C95,Eriheited!$D$124:$D$166,Eriheited!$B$124:$B$166)="Fossiilkütused",0,I95),0) -> 0 | O95: =IFERROR(_xlfn.XLOOKUP(C95,Eriheited!$D$124:$D$164,Eriheited!$C$124:$C$164)," ") | P95: =M95*IF(O95="jah",1,0) -> 0 | Q95: =IFERROR(IF(_xlfn.XLOOKUP(C95,Eriheited!$D$124:$D$166,Eriheited!$B$124:$B$166)="Biokütus",2,1)," ")
B96: Seade: … | C96: Kütuse valik | E96: t/a | F96: =IFERROR(_xlfn.XLOOKUP(C96,Eriheited!$D$124:$D$164,Eriheited!$F$124:$F$164),0) -> 0 | G96: =IFERROR(_xlfn.XLOOKUP(C96,Eriheited!$D$124:$D$164,Eriheited!$N$124:$N$164),0) -> 0 | H96: =IFERROR(_xlfn.XLOOKUP(C96,Eriheited!$D$124:$D$164,Eriheited!$M$124:$M$164),0) -> 0 | I96: =D96*1000000*F96*Ümberarvutused!$H$17 -> 0 | J96: =D96*G96 -> 0 | K96: =D96*H96 -> 0 | L96: =J96+K96 -> 0 | M96: =IFERROR((I96/$I$110*100),0) -> 0 | N96: =IFERROR(IF(_xlfn.XLOOKUP(C96,Eriheited!$D$124:$D$166,Eriheited!$B$124:$B$166)="Fossiilkütused",0,I96),0) -> 0 | O96: =IFERROR(_xlfn.XLOOKUP(C96,Eriheited!$D$124:$D$164,Eriheited!$C$124:$C$164)," ") | P96: =M96*IF(O96="jah",1,0) -> 0 | Q96: =IFERROR(IF(_xlfn.XLOOKUP(C96,Eriheited!$D$124:$D$166,Eriheited!$B$124:$B$166)="Biokütus",2,1)," ")
B97: Seade: … | C97: Kütuse valik | E97: t/a | F97: =IFERROR(_xlfn.XLOOKUP(C97,Eriheited!$D$124:$D$164,Eriheited!$F$124:$F$164),0) -> 0 | G97: =IFERROR(_xlfn.XLOOKUP(C97,Eriheited!$D$124:$D$164,Eriheited!$N$124:$N$164),0) -> 0 | H97: =IFERROR(_xlfn.XLOOKUP(C97,Eriheited!$D$124:$D$164,Eriheited!$M$124:$M$164),0) -> 0 | I97: =D97*1000000*F97*Ümberarvutused!$H$17 -> 0 | J97: =D97*G97 -> 0 | K97: =D97*H97 -> 0 | L97: =J97+K97 -> 0 | M97: =IFERROR((I97/$I$110*100),0) -> 0 | N97: =IFERROR(IF(_xlfn.XLOOKUP(C97,Eriheited!$D$124:$D$166,Eriheited!$B$124:$B$166)="Fossiilkütused",0,I97),0) -> 0 | O97: =IFERROR(_xlfn.XLOOKUP(C97,Eriheited!$D$124:$D$164,Eriheited!$C$124:$C$164)," ") | P97: =M97*IF(O97="jah",1,0) -> 0 | Q97: =IFERROR(IF(_xlfn.XLOOKUP(C97,Eriheited!$D$124:$D$166,Eriheited!$B$124:$B$166)="Biokütus",2,1)," ")
B98: Seade: … | C98: Kütuse valik | E98: t/a | F98: =IFERROR(_xlfn.XLOOKUP(C98,Eriheited!$D$124:$D$164,Eriheited!$F$124:$F$164),0) -> 0 | G98: =IFERROR(_xlfn.XLOOKUP(C98,Eriheited!$D$124:$D$164,Eriheited!$N$124:$N$164),0) -> 0 | H98: =IFERROR(_xlfn.XLOOKUP(C98,Eriheited!$D$124:$D$164,Eriheited!$M$124:$M$164),0) -> 0 | I98: =D98*1000000*F98*Ümberarvutused!$H$17 -> 0 | J98: =D98*G98 -> 0 | K98: =D98*H98 -> 0 | L98: =J98+K98 -> 0 | M98: =IFERROR((I98/$I$110*100),0) -> 0 | N98: =IFERROR(IF(_xlfn.XLOOKUP(C98,Eriheited!$D$124:$D$166,Eriheited!$B$124:$B$166)="Fossiilkütused",0,I98),0) -> 0 | O98: =IFERROR(_xlfn.XLOOKUP(C98,Eriheited!$D$124:$D$164,Eriheited!$C$124:$C$164)," ") | P98: =M98*IF(O98="jah",1,0) -> 0 | Q98: =IFERROR(IF(_xlfn.XLOOKUP(C98,Eriheited!$D$124:$D$166,Eriheited!$B$124:$B$166)="Biokütus",2,1)," ")
B99: Seade: … | C99: Kütuse valik | E99: t/a | F99: =IFERROR(_xlfn.XLOOKUP(C99,Eriheited!$D$124:$D$164,Eriheited!$F$124:$F$164),0) -> 0 | G99: =IFERROR(_xlfn.XLOOKUP(C99,Eriheited!$D$124:$D$164,Eriheited!$N$124:$N$164),0) -> 0 | H99: =IFERROR(_xlfn.XLOOKUP(C99,Eriheited!$D$124:$D$164,Eriheited!$M$124:$M$164),0) -> 0 | I99: =D99*1000000*F99*Ümberarvutused!$H$17 -> 0 | J99: =D99*G99 -> 0 | K99: =D99*H99 -> 0 | L99: =J99+K99 -> 0 | M99: =IFERROR((I99/$I$110*100),0) -> 0 | N99: =IFERROR(IF(_xlfn.XLOOKUP(C99,Eriheited!$D$124:$D$166,Eriheited!$B$124:$B$166)="Fossiilkütused",0,I99),0) -> 0 | O99: =IFERROR(_xlfn.XLOOKUP(C99,Eriheited!$D$124:$D$164,Eriheited!$C$124:$C$164)," ") | P99: =M99*IF(O99="jah",1,0) -> 0 | Q99: =IFERROR(IF(_xlfn.XLOOKUP(C99,Eriheited!$D$124:$D$166,Eriheited!$B$124:$B$166)="Biokütus",2,1)," ")
B100: Seade: … | C100: Kütuse valik | E100: t/a | F100: =IFERROR(_xlfn.XLOOKUP(C100,Eriheited!$D$124:$D$164,Eriheited!$F$124:$F$164),0) -> 0 | G100: =IFERROR(_xlfn.XLOOKUP(C100,Eriheited!$D$124:$D$164,Eriheited!$N$124:$N$164),0) -> 0 | H100: =IFERROR(_xlfn.XLOOKUP(C100,Eriheited!$D$124:$D$164,Eriheited!$M$124:$M$164),0) -> 0 | I100: =D100*1000000*F100*Ümberarvutused!$H$17 -> 0 | J100: =D100*G100 -> 0 | K100: =D100*H100 -> 0 | L100: =J100+K100 -> 0 | M100: =IFERROR((I100/$I$110*100),0) -> 0 | N100: =IFERROR(IF(_xlfn.XLOOKUP(C100,Eriheited!$D$124:$D$166,Eriheited!$B$124:$B$166)="Fossiilkütused",0,I100),0) -> 0 | O100: =IFERROR(_xlfn.XLOOKUP(C100,Eriheited!$D$124:$D$164,Eriheited!$C$124:$C$164)," ") | P100: =M100*IF(O100="jah",1,0) -> 0 | Q100: =IFERROR(IF(_xlfn.XLOOKUP(C100,Eriheited!$D$124:$D$166,Eriheited!$B$124:$B$166)="Biokütus",2,1)," ")
B101: Seade: … | C101: Kütuse valik | E101: t/a | F101: =IFERROR(_xlfn.XLOOKUP(C101,Eriheited!$D$124:$D$164,Eriheited!$F$124:$F$164),0) -> 0 | G101: =IFERROR(_xlfn.XLOOKUP(C101,Eriheited!$D$124:$D$164,Eriheited!$N$124:$N$164),0) -> 0 | H101: =IFERROR(_xlfn.XLOOKUP(C101,Eriheited!$D$124:$D$164,Eriheited!$M$124:$M$164),0) -> 0 | I101: =D101*1000000*F101*Ümberarvutused!$H$17 -> 0 | J101: =D101*G101 -> 0 | K101: =D101*H101 -> 0 | L101: =J101+K101 -> 0 | M101: =IFERROR((I101/$I$110*100),0) -> 0 | N101: =IFERROR(IF(_xlfn.XLOOKUP(C101,Eriheited!$D$124:$D$166,Eriheited!$B$124:$B$166)="Fossiilkütused",0,I101),0) -> 0 | O101: =IFERROR(_xlfn.XLOOKUP(C101,Eriheited!$D$124:$D$164,Eriheited!$C$124:$C$164)," ") | P101: =M101*IF(O101="jah",1,0) -> 0 | Q101: =IFERROR(IF(_xlfn.XLOOKUP(C101,Eriheited!$D$124:$D$166,Eriheited!$B$124:$B$166)="Biokütus",2,1)," ")
B102: Seade: … | C102: Kütuse valik | E102: t/a | F102: =IFERROR(_xlfn.XLOOKUP(C102,Eriheited!$D$124:$D$164,Eriheited!$F$124:$F$164),0) -> 0 | G102: =IFERROR(_xlfn.XLOOKUP(C102,Eriheited!$D$124:$D$164,Eriheited!$N$124:$N$164),0) -> 0 | H102: =IFERROR(_xlfn.XLOOKUP(C102,Eriheited!$D$124:$D$164,Eriheited!$M$124:$M$164),0) -> 0 | I102: =D102*1000000*F102*Ümberarvutused!$H$17 -> 0 | J102: =D102*G102 -> 0 | K102: =D102*H102 -> 0 | L102: =J102+K102 -> 0 | M102: =IFERROR((I102/$I$110*100),0) -> 0 | N102: =IFERROR(IF(_xlfn.XLOOKUP(C102,Eriheited!$D$124:$D$166,Eriheited!$B$124:$B$166)="Fossiilkütused",0,I102),0) -> 0 | O102: =IFERROR(_xlfn.XLOOKUP(C102,Eriheited!$D$124:$D$164,Eriheited!$C$124:$C$164)," ") | P102: =M102*IF(O102="jah",1,0) -> 0 | Q102: =IFERROR(IF(_xlfn.XLOOKUP(C102,Eriheited!$D$124:$D$166,Eriheited!$B$124:$B$166)="Biokütus",2,1)," ")
B103: Seade: … | C103: Kütuse valik | E103: t/a | F103: =IFERROR(_xlfn.XLOOKUP(C103,Eriheited!$D$124:$D$164,Eriheited!$F$124:$F$164),0) -> 0 | G103: =IFERROR(_xlfn.XLOOKUP(C103,Eriheited!$D$124:$D$164,Eriheited!$N$124:$N$164),0) -> 0 | H103: =IFERROR(_xlfn.XLOOKUP(C103,Eriheited!$D$124:$D$164,Eriheited!$M$124:$M$164),0) -> 0 | I103: =D103*1000000*F103*Ümberarvutused!$H$17 -> 0 | J103: =D103*G103 -> 0 | K103: =D103*H103 -> 0 | L103: =J103+K103 -> 0 | M103: =IFERROR((I103/$I$110*100),0) -> 0 | N103: =IFERROR(IF(_xlfn.XLOOKUP(C103,Eriheited!$D$124:$D$166,Eriheited!$B$124:$B$166)="Fossiilkütused",0,I103),0) -> 0 | O103: =IFERROR(_xlfn.XLOOKUP(C103,Eriheited!$D$124:$D$164,Eriheited!$C$124:$C$164)," ") | P103: =M103*IF(O103="jah",1,0) -> 0 | Q103: =IFERROR(IF(_xlfn.XLOOKUP(C103,Eriheited!$D$124:$D$166,Eriheited!$B$124:$B$166)="Biokütus",2,1)," ")
... B109: Seade: … | C109: Kütuse valik | E109: t/a | F109: =IFERROR(_xlfn.XLOOKUP(C109,Eriheited!$D$124:$D$164,Eriheited!$F$124:$F$164),0) -> 0 | G109: =IFERROR(_xlfn.XLOOKUP(C109,Eriheited!$D$124:$D$164,Eriheited!$N$124:$N$164),0) -> 0 | H109: =IFERROR(_xlfn.XLOOKUP(C109,Eriheited!$D$124:$D$164,Eriheited!$M$124:$M$164),0) -> 0 | I109: =D109*1000000*F109*Ümberarvutused!$H$17 -> 0 | J109: =D109*G109 -> 0 | K109: =D109*H109 -> 0 | L109: =J109+K109 -> 0 | M109: =IFERROR((I109/$I$110*100),0) -> 0 | N109: =IFERROR(IF(_xlfn.XLOOKUP(C109,Eriheited!$D$124:$D$166,Eriheited!$B$124:$B$166)="Fossiilkütused",0,I109),0) -> 0 | O109: =IFERROR(_xlfn.XLOOKUP(C109,Eriheited!$D$124:$D$164,Eriheited!$C$124:$C$164)," ") | P109: =M109*IF(O109="jah",1,0) -> 0 | Q109: =IFERROR(IF(_xlfn.XLOOKUP(C109,Eriheited!$D$124:$D$166,Eriheited!$B$124:$B$166)="Biokütus",2,1)," ")
B110: KOKKU | I110: =SUM(I90:I109) -> 0 | J110: =SUM(J90:J109) -> 0 | K110: =SUM(K90:K109) -> 0 | L110: =SUM(L90:L109) -> 0 | M110: =SUM(M90:M109) -> 0 | N110: =SUM(N90:N109) -> 0 | P110: =SUM(P90:P109) -> 0
B112: Tabel 2a. Laeva KHG heitemahukus pärast renoveerimist.
B113: Laeva KHG heide pärast renoveerimist | C113: =L110 -> 0 | D113: tCO2e/a
B114: fwind - Tuuleenergial põhineva veojõu preemiategur - lisada preemiateguri saamiseks kasutatud andmed ja arvutuskäik Töölehlele Preemiategur lähutvalt Määruse EL 2023/1085 Lisa 1 toodud võrranditest
B115: KHG heitemahukus = fwind*(WtT+TtW ) | C115: =((1*C113)/I110)/Ümberarvutused!$I$13*1000000 -> #DIV/0! | D115: gCO2e/MJ
B116: Laeva KHG heitemahukuse võrdlusväärtus - maksimaalne lubatud väärtus vastavalt määrusele (EL) 2023/1805 alates 2025. aastast) | C116: =$B$155 -> 89.3368 | D116: gCO2e/MJ
B119: Tabel 3. Täiendada kollaseid välju juhul, kui taotletakse toetust laeva renoveerimiseks keskkonnasõbraliku või heiteta sõiduki nõuetele vastavalt määrusele.
B120: Laeva (väljalasketoru) CO2 otseheide tCO2e/t_km, energiatõhususe indeksi alusel arvutatuna - Juhtumi 3 tõendamiseks vajalik arvutus | D120: Selgitus: Juhtumi 3) tõendamiseks lisada taotlusele tõendusmaterjal renoveeritud laeva EEDI arvutuskäigu kohta lähtuvalt viidatud metoodikale (viide 1). Lisada taotlusele tõend arvutuskäigu verifitseerimise kohta lähtuvalt nõudest MEPC.328(76) regulatsioonis 22 (viide 2).
B121: Laeva EEDI maksimaalne lubatud võrdlusväärtus peale renoveerimist - juhtumi 3) tõendamiseks tuua välja antud tüüpi laeva maksimaalne lubatud EEDI väärtus | G121: Viide 1 | H121: https://wwwcdn.imo.org/localresources/en/KnowledgeCentre/IndexofIMOResolutions/MEPCDocuments/MEPC.308(73).pdf
B122: Laeva EEDI peale renoveerimist - juhtumi 3) tõendamiseks lisada töölehele "EEDI" vastav arvutukäik laeva renoveermismjärgse EEDI prognoosimiseks | G122: Viide 2 | H122: https://wwwcdn.imo.org/localresources/en/OurWork/Environment/Documents/Air%20pollution/MEPC.328%2876%29.pdf
B123: Laeva mootorid ja kütused vastavad määruse keskkonnasõbraliku sõiduki nõuetele | C123: =IF(SUM(O132:O135)=0,"Ei","Jah") -> Ei | D123: Vastavuskriteeriumid lähtuvalt määruses toodud viitele grupierandi määruse tingimustele | I123: https://eur-lex.europa.eu/legal-content/ET/TXT/PDF/?uri=CELEX:02014R0651-20230701
B124: Laeva mootorid ja kütused vastavad määruse heiteta sõiduki nõuetele | C124: =IF(O136=0,"Ei","Jah") -> Ei | D124: Vastavuskriteeriumid lähtuvalt määruses toodud viitele grupierandi määruse tingimustele | I124: https://eur-lex.europa.eu/legal-content/ET/TXT/PDF/?uri=CELEX:02014R0651-20230701
B131: Valikvastus keskkonnasõbralik või heiteta sõiduk | C131: Vastavuskriteerium 1 | G131: Vastavus 1 | I131: Vastavuskriteerium 2 | M131: Vastavus 2 | N131: Vastavus kokku | O131: Loogikatesti väärtus
B132: 1) Reisijate- ja kaubaveoks, sadamatoiminguteks või abitegevuseks kasutatav mere- ja rannikulaev, millel on hübriid- või kaherežiimiline mootor ja mille energiast pärineb vähemalt 25 % (väljalasketoru) CO2 otseheiteta kütustest | C132: Laeval on hübriidmootor või kaherežiimiline mootor | G132: =IF(C20="hübriidmootor","Jah",(IF(C20="kaherežiimiline mootor","Jah","Ei"))) -> Jah | H132: ja | I132: laeva energiast pärineb vähemalt 25 % (väljalasketoru) CO2 otseheiteta kütustest | M132: =IF(P110<25,"Ei","Jah") -> Ei | N132: =IF(G132="Ei","Ei",(IF(M132="Ei","Ei","Jah"))) -> Ei | O132: =IF(N132="Ei",0,1) -> 0
B133: 2) Reisijate- ja kaubaveoks, sadamatoiminguteks või abitegevuseks kasutatav mere- ja rannikulaev, millel on hübriid- või kaherežiimiline mootor ja mis kasutab merel ja sadamates tavatingimustes käitamiseks elektrivõrgu energiat | C133: Laeval on hübriidmootor või kaherežiimiline mootor | G133: =IF(C20="hübriidmootor","Jah",(IF(C20="kaherežiimiline mootor","Jah","Ei"))) -> Jah | H133: ja | I133: laev kasutab merel ja sadamates tavatingimustes käitamiseks elektrivõrgu energiat (eelduseks on pandud et vähemalt pool aastas kasutatavast energiast on elekter) | M133: =IFERROR(IF((M90+M91)/(M90+M91)<0.5,"Ei","Jah"),"Ei") -> Ei | N133: =IF(G133="Ei","Ei",(IF(M133="Ei","Ei","Jah"))) -> Ei | O133: =IF(N133="Ei",0,1) -> 0
B134: 3) Kaubaveoks ette nähtud mere- ja rannikulaev, mida kasutatakse üksnes selliste ranniku- ja lähimereveoteenuste osutamiseks, mille eesmärk on võimaldada praegu maismaad mööda veetava kauba ümbersuunamist merele, ning mille (väljalasketoru) CO2 otseheide on energiatõhususe indeksi alusel arvutatuna 50 % väiksem kui määruse (EL) 2019/1242 artikli 11 kohaselt raskeveokite (veokite allrühm 5-LH) puhul kindlaks määratud keskmine CO2 võrdlusheite väärtus | C134: Laev on mõeldud üksnes maismaatranspordi ümbersuunamiseks merele | G134: =IF(C20=B188,"Jah","Ei") -> Ei | H134: ja | I134: (väljalasketoru) CO2 otseheide on energiatõhususe indeksi alusel arvutatuna väiksem kui 26,15 g/t_km | M134: =IF(C120>P134,"Ei","Jah") -> Jah | N134: =IF(G134="Ei","Ei",(IF(M134="Ei","Ei","Jah"))) -> Ei | O134: =IF(N134="Ei",0,1) -> 0 | P134: =26.15/1000000 -> 2.615e-05
B135: 4) Reisijate- ja kaubaveoks, sadamatoiminguteks või abitegevuseks kasutatav mere- ja rannikulaev, mille Rahvusvahelise Mereorganisatsiooni energiatõhususe indeksi väärtus on 10 % väiksem kui 1. aprillil 2022 kohaldatavad energiatõhususe indeksi nõuded ning laev on suuteline sõitma (väljalasketoru) CO2 otseheiteta kütuste või taastuvatest energiaallikatest saadud kütuste jõul | C135: Laeva Rahvusvahelise Mereorganisatsiooni energiatõhususe indeksi väärtus on 10 % väiksem kui 1. aprillil 2022 kohaldatavad energiatõhususe indeksi nõuded | G135: =IF(C122=0,"Ei",(IF(C122<=C121,"Jah","Ei"))) -> Ei | H135: ja | I135: laev on suuteline sõitma (väljalasketoru) CO2 otseheiteta kütuste või taastuvatest energiaallikatest saadud kütuste jõul | M135: =IFERROR(IF(P110>0,"Jah",(IF((N110/I110)>0,"Jah","Ei"))),"Ei") -> Ei | N135: =IF(G135="Ei","Ei",(IF(M135="Ei","Ei","Jah"))) -> Ei | O135: =IF(N135="Ei",0,1) -> 0
B136: 5) Mere- ja rannikulaev reisijate- või kaubaveoks, sadamatoiminguteks või abitegevuseks, millel puudub (väljalasketoru) CO2 otseheide | C136: Laeval puudub (väljalasketoru) CO2 otseheide | G136: =IF(P110=100,"Jah","Ei") -> Ei | N136: =IFERROR(IF(G136="Ei","Ei","Jah"),"Ei") -> Ei | O136: =IF(N136="Ei",0,1) -> 0
B147: Lähteandmed lubatud heitkoguse masimaalse väärtuse kohta:
B149: Viide
B150: https://eur-lex.europa.eu/legal-content/ET/TXT/PDF/?uri=CELEX:32023R1805
B151: EUROOPA PARLAMENDI JA NÕUKOGU MÄÄRUS (EL) 2023/1805, 13. september 2023, mis käsitleb taastuvkütuste ja vähese süsinikuheitega kütuste kasutamist meretranspordis ning millega muudetakse direktiivi 2009/16/EÜ
B152: artikkel 4 lõige 2
B153: 2. Lõikes 1 osutatud piirmäära arvutamiseks vähendatakse kontrollväärtust 91,16 grammi CO2 ekvivalenti MJ kohta järgmise protsendi võrra: — 2 % alates 1. jaanuarist 2025;
B154: Seega lubatav maksimaalne heide laeva kohta on praegu
B155: =91.16*0.98 -> 89.3368 | C155: g CO2 ekv/MJ
B159: Selgitused ja valikvastuste loendid
...

Sheet Eriheited
B1: Eriheited
B2: KHG jalajälje arvutusmudel 2024.19.11.xlsx | 710.39 KB | xlsx | D2: Kliimaministeerium | E2: https://kliimaministeerium.ee/rohereform-kliima/rohereform/organisatsioonide-khg-jalajalg#mudel
B3: Laevatüüp ja suurus valikvastusena | C3: Laevatüüp ja suurus | D3: Eriheitetegur | E3: Ühik | F3: Andmeallikas
B4: Kemikaalitanker | C4: Kemikaalitanker (keskmistatud) | D4: 0.010322 | E4: kg CO2 ekv/tonn-km | F4: UK GHG Conversion Factors 2021 (keskmistatud võttes arvesse üldlevinud kemikaalitankerite suurust/tüüpi ja kasutamist)
B5: Konteinerilaev | C5: Konteinerilaev (keskmistatud) | D5: 0.016142 | E5: kg CO2 ekv/tonn-km | F5: UK GHG Conversion Factors 2021 (keskmistatud võttes arvesse üldlevinud konteinerilaevade suurust/tüüpi ja kasutamist)
B6: Külmutatud kauba laev | C6: Külmutatud kauba laev (kõik DWT-d) | D6: 0.01308 | E6: kg CO2 ekv/tonn-km | F6: UK GHG Conversion Factors 2021 (keskmistatud võttes arvesse üldlevinud külmutatud laevade suurust/tüüpi ja kasutamist)
B7: LNG tanker | C7: LNG tanker (keskmistatud) | D7: 0.011548 | E7: kg CO2 ekv/tonn-km | F7: UK GHG Conversion Factors 2021 (keskmistatud võttes arvesse üldlevinud LNG tankerite suurust/tüüpi ja kasutamist)
B8: LPG tanker | C8: LPG tanker (keskmistatud) | D8: 0.010382 | E8: kg CO2 ekv/tonn-km | F8: UK GHG Conversion Factors 2021 (keskmistatud võttes arvesse üldlevinud LPG tankerite suurust/tüüpi ja kasutamist)
B9: Naftatanker | C9: Naftatanker (keskmistatud) | D9: 0.004572 | E9: kg CO2 ekv/tonn-km | F9: UK GHG Conversion Factors 2021 (keskmistatud võttes arvesse üldlevinud naftatankerite suurust/tüüpi ja kasutamist)
B10: Parvlaev (reisi-kaubalaev) | C10: Parvlaev (reisi-kaubalaev, nt Tallinn-Helsingi/Stockholm) | D10: 0.082 | E10: kg CO2 ekv/tonn-km | F10: LIPASTO
B11: Puistlastilaev (bulker) | C11: Puistlastilaev (bulker) (keskmistatud) | D11: 0.003539 | E11: kg CO2 ekv/tonn-km | F11: UK GHG Conversion Factors 2021 (keskmistatud võttes arvesse üldlevinud puitlastilaevade suurust/tüüpi ja kasutamist)
B12: Ro-ro/ro-pax laev (2000+ LM) | C12: Ro-ro/ro-pax laev (2000+ LM) | D12: 0.050189 | E12: kg CO2 ekv/tonn-km | F12: UK GHG Conversion Factors 2021
B13: Ro-ro/ro-pax laev (kuni 2000 LM) | C13: Ro-ro/ro-pax laev (valdav osa Eesti ja Põhjamaade vahel sõitvatest laevadest) (kuni 2000 LM) | D13: 0.061139 | E13: kg CO₂ ekv/tonn-km | F13: UK GHG Conversion Factors 2021
B14: Sõidukite transpordilaev | C14: Sõidukite transpordilaev (keskmistatud) | D14: 0.038579 | E14: kg CO2 ekv/tonn-km | F14: UK GHG Conversion Factors 2021 (keskmistatud võttes arvesse üldlevinud transpordilaevade suurust/tüüpi ja kasutamist)
B15: Tootetanker | C15: Tootetanker (keskmistatud) | D15: 0.009034 | E15: kg CO2 ekv/tonn-km | F15: UK GHG Conversion Factors 2021 (keskmistatud võttes arvesse üldlevinud tootetankerite suurust/tüüpi ja kasutamist)
B16: Üldkaubalaev | C16: Üldkaubalaev (keskmistatud) | D16: 0.013232 | E16: kg CO2 ekv/tonn-km | F16: UK GHG Conversion Factors 2021 (keskmistatud võttes arvesse üldlevinud üldkaubalevade suurust/tüüpi ja kasutamist)
B17: Parvlaev (reisilaev) | C17: Parvlaev, reisi-kaubalaev (nt Tallinn-Helsingi/Stockholm) | D17: 0.019 | E17: kg CO2 ekv/sõitja-km
B19: Viited | C19: https://kliimaministeerium.ee/sites/default/files/documents/2024-11/KHG%20jalaj%C3%A4lje%20arvutusmudel%202024.11.19.xlsx
C20: UK GHG Conversion Factors 2021 | F20: https://www.gov.uk/government/collections/government-conversion-factors-for-company-reporting
C21: VTT LIPASTO calculation system for transport exhaust emissions and energy use in Finland | K21: http://lipasto.vtt.fi/en/index.htm
B23: RESOLUTION MEPC.308(73) (adopted on 26 October 2018) 2018 GUIDELINES ON THE METHOD OF CALCULATION OF THE ATTAINED ENERGY EFFICIENCY DESIGN INDEX (EEDI) FOR NEW SHIPS | D23: Viide | E23: https://wwwcdn.imo.org/localresources/en/KnowledgeCentre/IndexofIMOResolutions/MEPCDocuments/MEPC.308(73).pdf
B25: Kütuse tüüp | C25: Type of fuel | D25: Reference | E25: Lower calorific value (kJ/kg) | F25: Carbon content CF (t-CO2/tFuel) | G25: CF (t-CO2/tFuel)
B26: Diisel | C26: 1 Diesel/Gas Oil | D26: ISO 8217 Grades DMX through DMB | E26: 42700 | F26: 0.8744 | G26: 3.206
B27: Kerge kütteõli | C27: 2 Light Fuel Oil (LFO) | D27: ISO 8217 Grades RMA through RMD | E27: 41200 | F27: 0.8594 | G27: 3.151
B28: Raske kütteõli | C28: 3 Heavy Fuel Oil (HFO) | D28: ISO 8217 Grades RME through RMK | E28: 40200 | F28: 0.8493 | G28: 3.114
B29: LPG, propaan | C29: 4 Liquefied Petroleum Gas (LPG) | D29: Propane | E29: 46300 | F29: 0.8182 | G29: 3
B30: LPG, butaan | C30: 4 Liquefied Petroleum Gas (LPG) | D30: Butane | E30: 45700 | F30: 0.8264 | G30: 3.03
B31: LPG (propaan või butaan) | C31: 4 Liquefied Petroleum Gas (LPG) | D31: Butane and Propane | E31: =AVERAGE(E29:E30) -> 46000 | F31: =AVERAGE(F29:F30) -> 0.8223 | G31: =AVERAGE(G29:G30) -> 3.015
B32: LNG | C32: 5 Liquefied Natural Gas (LNG) | E32: 48000 | F32: 0.75 | G32: 2.75
B33: Metanool | C33: 6 Methanol | E33: 19900 | F33: 0.375 | G33: 1.375
B34: Etanool | C34: 7 Ethanol | E34: 26800 | F34: 0.5217 | G34: 1.913
B37: Viited | C37: https://kliimaministeerium.ee/sites/default/files/documents/2024-11/KHG%20jalaj%C3%A4lje%20arvutusmudel%202024.11.19.xlsx
B38: Kütuse-/energialiik | C38: Eriheitetegur | D38: Ühik | E38: Andmeallikas
B39: Biomass (nt puiduhake, saepuru) (kg) | C39: 0.00076469635 | D39: kg CO2 ekv/kg | E39: KHG inventuuri aruanne 2022, kütteväärtus 11,9 MJ/kg
B40: Biomass (nt puiduhake, saepuru) (kWh) | C40: 0.00023133671 | D40: kg CO2 ekv/kWh | E40: KHG inventuuri aruanne 2022, katlad 1-50MW
B41: Biometaan (kWh) | C41: 0.0001141722 | D41: kg CO2 ekv/kWh | E41: KHG inventuuri aruanne 2022, katlad 1-50MW
B42: Biometaan (mᶟ) | C42: 0.0010789273 | D42: kg CO2 ekv/m3 | E42: KHG inventuuri aruanne 2022, katlad 1-50MW, 2020. a maagaasi keskmine alumine kütteväärtus ca 34,13 MJ/m3 (Elering: https://elering.ee/vorgugaasi-kvaliteet)
B43: Diisel (kWh) | C43: 0.26467003 | D43: kg CO2 ekv/kWh | E43: KHG inventuuri aruanne 2022
B44: Diisel (l) | C44: 2.6239092 | D44: kg CO2 ekv/l | E44: KHG inventuuri aruanne 2022, kütteväärtus ~35,69 MJ/l
B45: Kerge kütteõli (kg) | C45: 3.1455791 | D45: kg CO2 ekv/kg | E45: KHG inventuuri aruanne 2022, kütteväärtus 42,5 MJ/kg
B46: Kerge kütteõli (kWh) | C46: 0.26644905 | D46: kg CO2 ekv/kWh | E46: KHG inventuuri aruanne 2022, katlad 1-50MW
B47: Kivisüsi (kg) | C47: 2.365107 | D47: kg CO2 ekv/kg | E47: KHG inventuuri aruanne 2022, 2020. a kivisöe kütteväärtus 24,94 MJ/kg (Statistikaamet)
B48: Kivisüsi (kWh) | C48: 0.34139476 | D48: kg CO2 ekv/kWh | E48: KHG inventuuri aruanne 2022
B49: Maagaas (kWh) | C49: 0.19903817 | D49: kg CO2 ekv/kWh | E49: KHG inventuuri aruanne 2022, katlad 1-50MW
B50: Maagaas (mᶟ) | C50: 1.8809107 | D50: kg CO2 ekv/m3 | E50: KHG inventuuri aruanne 2022, katlad 1-50MW, 2020. a maagaasi keskmine alumine kütteväärtus ca 34,13 MJ/m3 (Elering: https://elering.ee/vorgugaasi-kvaliteet)
... B74: Veeldatud naftagaas (LPG) (kWh) | C74: 0.2286749 | D74: kg CO2 ekv/kWh | E74: KHG inventuuri aruanne 2022
B76: Kütuseliik | C76: Biogeense CO2 tegur | D76: Ühik | E76: Andmeallikas
B78: Biomass (nt puiduhake, saepuru) (kg) | C78: 1.3328 | D78: kg biogeenne CO2/kg | E78: KHG inventuuri aruanne 2022, kütteväärtus keskmiselt 11,9 MJ/kg
B79: Biomass (nt puiduhake, saepuru) (kWh) | C79: 0.4032 | D79: kg biogeenne CO2/kWh | E79: KHG inventuuri aruanne 2022
B80: Biometaan (kWh) | C80: 0.196548 | D80: kg biogeenne CO2/kWh | E80: KHG inventuuri aruanne 2022
B81: Biometaan (mᶟ) | C81: 1.8573786 | D81: kg biogeenne CO2/m3 | E81: KHG inventuuri aruanne 2022, 2020. a maagaasi keskmine alumine kütteväärtus ca 34,13 MJ/m3 (Elering: https://elering.ee/vorgugaasi-kvaliteet)
B83: M2, M3 - SISSEOSTETUD ELEKTER
B84: Elektrienergia | C84: Eriheitetegur | D84: Ühik | E84: Andmeallikas
B85: Taastuvelekter (päritolutunnistusega: biomassist) | C85: 0.00023133671 | D85: kg CO2 ekv/kWh | E85: KHG inventuuri aruanne 2023
B86: Taastuvelekter (päritolutunnistusega: päikese-, tuule- ja/või hüdroenergiast) | C86: 0 | D86: kg CO2 ekv/kWh | E86: CoM 2017
B87: Tavaelekter (segajääk) | C87: 0.71518 | D87: kg CO2/kWh | E87: Elering 2023. Elektrienergia segajäägi eriheide 2022
B89: 2. Arvestuse pidamine kütuseliigi, maismaasõidukite tüübi ja kütuse tarbimiskoguse põhjal
B90: Kütuseliik, maismaasõiduki tüüp ja kütuse koguse ühik | C90: Eriheitetegur | D90: Ühik | E90: Kütteväärtus | F90: Ühik | G90: Andmeallikas | H90: Elektroonililne viide
B91: Bensiin, raskeveok (l) | C91: 2.2550903 | D91: kg CO2 ekv/l | E91: 31.82 | F91: MJ/l | G91: KHG inventuuri aruanne 2022, kütteväärtus ~31,82 MJ/l | H91: https://kliimaministeerium.ee/sites/default/files/documents/2023-11/KHG%20jalaj%C3%A4lje%20arvutusmudel%202023.xlsx
B92: Bio-CNG, raskeveok/buss (kg) | C92: 0.020616901 | D92: kg CO2 ekv/kg | E92: 49 | F92: MJ/kg | G92: KHG inventuuri aruanne 2022, kütteväärtus 49MJ/kg | H92: https://kliimaministeerium.ee/sites/default/files/documents/2023-11/KHG%20jalaj%C3%A4lje%20arvutusmudel%202023.xlsx
B93: CNG, raskeveok/buss (kg) | C93: 2.7281936 | D93: kg CO2 ekv/kg | E93: 49 | F93: MJ/kg | G93: KHG inventuuri aruanne 2022, kütteväärtus 49MJ/kg | H93: https://kliimaministeerium.ee/sites/default/files/documents/2023-11/KHG%20jalaj%C3%A4lje%20arvutusmudel%202023.xlsx
B94: Diisel, raskeveok (l) | C94: 2.6481958 | D94: kg CO2 ekv/l | E94: 35.69 | F94: MJ/l | G94: KHG inventuuri aruanne 2022, kütteväärtus ~35,69 MJ/l | H94: https://kliimaministeerium.ee/sites/default/files/documents/2023-11/KHG%20jalaj%C3%A4lje%20arvutusmudel%202023.xlsx
B95: LPG, raskeveok/buss (kg) | C95: 2.9144806 | D95: kg CO2 ekv/kg | E95: 45.5 | F95: MJ/kg | G95: KHG inventuuri aruanne 2022, kütteväärtus 45.5 MJ/kg | H95: https://kliimaministeerium.ee/sites/default/files/documents/2023-11/KHG%20jalaj%C3%A4lje%20arvutusmudel%202023.xlsx
B96: Sõiduvahend (taastuvelekter) (kWh) | C96: 0 | D96: kg CO2 ekv/kWh | E96: =1*0.0036*1000000 -> 3600 | F96: MJ/MWh | G96: CoM 2017 | H96: https://kliimaministeerium.ee/sites/default/files/documents/2023-11/KHG%20jalaj%C3%A4lje%20arvutusmudel%202023.xlsx
B97: Veesõiduk, laevakütus (l) | C97: =[1]Eriheited!F91 -> 55.644728 | D97: kg CO2 ekv/l | E97: 35.69 | F97: MJ/l | G97: KHG inventuuri aruanne 2022, kütteväärtus ~35,69 MJ/l | H97: https://kliimaministeerium.ee/sites/default/files/documents/2023-11/KHG%20jalaj%C3%A4lje%20arvutusmudel%202023.xlsx
B98: Parvlaev, reisi-kaubalaev (nt Tallinn-Helsingi/Stockholm) | C98: 0.019 | D98: kg CO2 ekv/sõitja-km
B100: EUROOPA PARLAMENDI JA NÕUKOGU MÄÄRUS (EL) 2023/1805, 13. september 2023, mis käsitleb taastuvkütuste ja vähese süsinikuheitega kütuste kasutamist meretranspordis ning millega muudetakse direktiivi 2009/16/EÜ
B101: Viide: | C101: https://eur-lex.europa.eu/legal-content/ET/TXT/PDF/?uri=CELEX:32023R1805
B102: I Lisa lk 39
B119: II Lisa, lk 43
B120: 1 | E120: 2 | F120: 3 | G120: 4 | H120: 5 | I120: 6 | J120: 7 | K120: 8 | L120: 9 | R120: Kui lahtrisse on märgitud kas TBM või N/A, kasutatakse samas veerus märgitud asjaomase kütuseklassi kõrgeimat vaikeväärtust, välja arvatud juhul, kui väärtus on näidatud kooskõlas artikliga 10.
G121: Allikast paagini (well- to-tank, WtT) | I121: Paagist pardani (tankto-wake, TtW) | M121: Paagist pardani summeeritud (tank to-wake, TtW) | N121: Allikast paagini (well- to-tank, WtT) | R121: Kui konkreetse kütuseklassi puhul on sama veeru kõigi lahtrite puhul märgitud kas TBM või N/A, kasutatakse kõige vähem soositud fossiilkütuste tootmise viisi vaikeväärtust, välja arvatud juhul, kui väärtus on näidatud kooskõlas artikliga 10. Seda reeglit ei kohaldata veeru 9 puhul, kus TBM või N/A viitab sellele, et kütusetarbija väärtused ei ole kättesaadavad. Kui vaikeväärtust ei ole, tuleks kasutada sertifitseeritud väärtust kooskõlas artikli 10 lõikega 5.
B122: Kütuse-klass | C122: (väljalasketoru) CO2 otseheiteta kütus | E122: Tootmisviis | F122: LCV (alumine kütteväärtus) | G122: CO2eq WtT | H122: Kütust tarbiva üksuse klass | I122: Cf CO2 | J122: Cf CH4 | K122: Cf N2O | L122: Cslip | M122: Cf TtW | N122: CO2eq WtT | O122: Maksimaalne kütuseklassi Cf CH4 | P122: Maksimaalne kütuseklassi Cf N2O | Q122: Maksimaalne kütuseklassi CSlip | R122: Veerus 4 on esitatud WtT KHG heitekoefitsendid ühikutes gCO2eq/MJ. a) Vedelate biokütuste puhul arvutatakse vaikeväärtused, kasutades direktiivi (EL) 2018/2001 V lisa C osas kõigi vedelate biokütuste, välja arvatud veeldatud biogaasi, ja VI lisa B osas veeldatud biogaasi (bio-LNG) puhul sätestatud metoodika kohaselt kindlaks määratud E väärtusi ning võttes aluseks vaikeväärtused, mis on seotud konkreetse transpordikütusena kasutatava biokütuse ja selle tootmisviisiga, mis on sätestatud kõnealuse direktiivi V lisa D ja E osas kõigi vedelate biokütuste, välja arvatud veeldatud biogaasi kohta, ja VI lisa D osas veeldatud biogaasi kohta. E väärtusi tuleb korrigeerida, lahutades asjaomasest väärtusest veerus 6 (cf_CO2) ja veerus 3 (LCV) esitatud väärtuste suhtarvu. Seda nõutakse määruse kohaselt, mis eraldab WtT ja TtW arvutused, et vältida heitkoguste topeltarvestust; b) RFNBO ja muude punktis a osutamata kütuste puhul, mida tuleb arvesse võtta määruse artikli 4 lõikes 1 osutatud eesmärgil, arvutatakse vaikeväärtused kas direktiivi (EL) 2018/2001 artikli 28 lõikes 5 osutatud delegeeritud õigusaktis sätestatud metoodika alusel, või kui see on kohaldatav, sarnase metoodika alusel, kui see on kindlaks määratud taastuvatest energiaallikatest toodetud gaaside ja maagaasi ning vesiniku siseturge käsitlevas liidu õigusaktis, vastavalt käesoleva määruse artikli 10 lõigetele 1 ja 2. L 234/94 ET Euroopa Liidu Teataja 22.9.2023
D123: Kütuse valik | F123: MJ/ g | G123: gCO2eq/MJ | I123: gCO2/gFuel | J123: gCH4/gFuel | K123: gN2O/gFuel | L123: % mootori tarbitud kütuse massist | M123: g(CO2e)/g(Fuel) | N123: g(CO2e)/g(Fuel)
B124: Fossiilkütused | C124: ei | D124: Raske kütteõli | E124: (HFO) ISO 8217 kvaliteedi-klassid RME kuni RMK | F124: 0.0405 | G124: 13.5 | H124: Kõik sisepõlemismootorid | I124: 3.114 | J124: 5e-05 | K124: 0.00018 | L124: - | M124: =I124*1+J124*25+K124*298 -> 3.16889 | N124: =G124*F124 -> 0.54675 | O124: =MAX(J124:J131) -> 5e-05 | P124: =MAX(K124:K131) -> 0.00018 | Q124: =MAX(L124:L131) -> 3.1
B125: Fossiilkütused | C125: ei | D125: Kerge kütteõli | E125: (LFO) ISO 8217 kvaliteedi-klassid RMA kuni RMD | F125: 0.041 | G125: 13.2 | H125: Kõik sisepõlemismootorid | I125: 3.151 | J125: 5e-05 | K125: 0.00018 | L125: - | M125: =I125*1+J125*25+K125*298 -> 3.20589 | N125: =G125*F125 -> 0.5412
B126: Fossiilkütused | C126: ei | D126: Laeva diislikütus | E126: (MDO) | F126: 0.0427 | G126: 14.4 | H126: Kõik sisepõlemismootorid | I126: 3.206 | J126: 5e-05 | K126: 0.00018 | L126: - | M126: =I126*1+J126*25+K126*298 -> 3.26089 | N126: =G126*F126 -> 0.61488
B127: Fossiilkütused | C127: ei | D127: Laeva gaasiõli | E127: (MGO) ISO 8217 kvaliteedi-klassid DMX kuni DMB | F127: 0.0427 | G127: 14.4 | H127: Kõik sisepõlemismootorid | I127: 3.206 | J127: 5e-05 | K127: 0.00018 | L127: - | M127: =I127*1+J127*25+K127*298 -> 3.26089 | N127: =G127*F127 -> 0.61488
B128: Fossiilkütused | C128: ei | D128: Veeldatud maagaas (LNG) otto, keskmine kiirus | F128: 0.0491 | G128: 18.5 | H128: LNG otto (kahe- kütuseline, keskmine kiirus) | I128: 2.75 | J128: 0 | K128: 0.00011 | L128: 3.1 | M128: =(1-L128/100)*(I128*1+J128*25+K128*298)+(L128/100)*25 -> 3.4715138 | N128: =G128*F128 -> 0.90835
B129: Fossiilkütused | C129: ei | D129: Veeldatud maagaas (LNG) otto, aeglane kiirus | F129: 0.0491 | G129: 18.5 | H129: LNG otto (kahekütuseline, aeglane kiirus) | I129: 2.75 | J129: 0 | K129: 0.00011 | L129: 1.7 | M129: =(1-L129/100)*(I129*1+J129*25+K129*298)+(L129/100)*25 -> 3.1604727 | N129: =G129*F129 -> 0.90835
B130: Fossiilkütused | C130: ei | D130: Veeldatud maagaas (LNG) diisel, aeglane kiirus | F130: 0.0491 | G130: 18.5 | H130: LNG diisel (kahe- kütuseline, aeglane kiirus) | I130: 2.75 | J130: 0 | K130: 0.00011 | L130: 0.2 | M130: =(1-L130/100)*(I130*1+J130*25+K130*298)+(L130/100)*25 -> 2.8272144 | N130: =G130*F130 -> 0.90835
B131: Fossiilkütused | C131: ei | D131: Veeldatud maagaas (LNG) LBSI | F131: 0.0491 | G131: 18.5 | H131: LBSI (lahjasegul töötavad sädesüütega gaasimootorid) | I131: 2.75 | J131: 0 | K131: 0.00011 | L131: 2.6 | M131: =(1-L131/100)*(I131*1+J131*25+K131*298)+(L131/100)*25 -> 3.3604277 | N131: =G131*F131 -> 0.90835
B132: Fossiilkütused | C132: ei | D132: Veeldatud naftagaas (LPG) butaan | F132: 0.046 | G132: 7.8 | H132: Kõik sisepõlemismootorid | I132: 3.03 | J132: TBM | K132: TBM | L132: N/A | M132: =(1-$Q$124/100)*(I132*1+$O$124*25+$P$124*298)+($Q$124/100)*25 -> 3.7642584 | N132: =G132*F132 -> 0.3588
B133: Fossiilkütused | C133: ei | D133: Veeldatud naftagaas (LPG) Propaan | F133: 0.046 | G133: 7.8 | H133: Kõik sisepõlemismootorid | I133: 3 | J133: TBM | K133: TBM | L133: N/A | M133: =(1-$Q$124/100)*(I133*1+$O$124*25+$P$124*298)+($Q$124/100)*25 -> 3.7351884 | N133: =G133*F133 -> 0.3588
B134: Fossiilkütused | C134: jah | D134: H2 (maagaas) Kütuselement | F134: 0.12 | G134: 132 | H134: Kütuse-elemendid | I134: 0 | J134: 0 | K134: - | L134: - | M134: =I134*1+J134*25 -> 0 | N134: =G134*F134 -> 15.84
B135: Fossiilkütused | C135: jah | D135: H2 (maagaas) Sisepõlemismootor | F135: 0.12 | G135: 132 | H135: Sisepõlemismootor | I135: 0 | J135: 0 | K135: TBM | L135: - | M135: =I135*1+J135*25 -> 0 | N135: =G135*F135 -> 15.84
B136: Fossiilkütused | C136: jah | D136: NH3 (maagaas) Kütuselement | F136: 0.0186 | G136: 121 | H136: Kütuse-elemendid | I136: 0 | J136: N/A | K136: TBM | L136: N/A | M136: =(1-$Q$124/100)*(I136*1+$O$124*25+$P$124*298)+($Q$124/100)*25 -> 0.82818841 | N136: =G136*F136 -> 2.2506
B137: Fossiilkütused | C137: jah | D137: NH3 (maagaas) Sisepõlemismootor | F137: 0.0186 | G137: 121 | H137: Sisepõlemismootor | I137: 0 | J137: N/A | K137: TBM | L137: N/A | M137: =(1-$Q$124/100)*(I137*1+$O$124*25+$P$124*298)+($Q$124/100)*25 -> 0.82818841 | N137: =G137*F137 -> 2.2506
B138: Fossiilkütused | C138: ei | D138: Metanool (maagaas) | F138: 0.0199 | G138: 31.3 | H138: Kõik sisepõlemismootorid | I138: 1.375 | J138: TBM | K138: TBM | L138: - | M138: =I138*1+$O$124*25+$P$124*298 -> 1.42989 | N138: =G138*F138 -> 0.62287
A139: Lahter 3: Kõigi biokütuste korral on LCV aluseks võetud Direktiivi (EL) 2018/2001 III lisas sätestatud väärtus. Lahter 4: Kõigi biokütuste korral on arvutuskäik: E – CfCO2/LCV. Antud lahtris on praegu toodud mitteteadaoleva päritoluga tootmisviisi jaoks kasutatavad vaikeväärtused. Kütuse tootja on kohustatud koos kütuse saatelehega esitama ka kütuse KHG heidet sisaldava info, mida saab kasutada antud vaikeväärtuste asemel. Lahter 6: Bioloogilist päritolu ja e-kütustel ei arvestata Cf arvutusel CO2 heidet. | B139: Biokütus | C139: ei | D139: Etanool (bio) | E139: Direktiivi (EL) 2018/2001 kohased tootmisviisid | F139: =K173/1000 -> 0.027 | G139: =D184 -> 71.7 | H139: Kõik sisepõlemismootorid | I139: 1.913 | J139: TBM | K139: TBM | L139: - | M139: =I139*1*0+$O$139*25+$P$139*298 -> 0.05489 | N139: =G139*F139 -> 1.9359 | O139: =MAX(J139:J149) -> 5e-05 | P139: =MAX(K139:K149) -> 0.00018 | Q139: =MAX(L139:L149) -> 3.1 | R139: III lisa väärtused on toodud siin tölehel alates lahtrist E150 ja I150. E on kindlaks määratud vastavalt meetoditele, mis on sätestatud direktiivi (EL) 2018/2001 V lisa C osas ja VI lisa B osas. Tabelid E väärtustega on toodud käesolevalt töölehel alates lahtrist A151
B140: Biokütus | C140: ei | D140: Biodiisel | E140: Direktiivi (EL) 2018/2001 kohased tootmisviisid | F140: =G178/1000 -> 0.044 | G140: =D192 -> 75.5 | H140: Kõik sisepõlemis- mootorid | I140: 2.834 | J140: TBM | K140: TBM | L140: - | M140: =I140*1*0+$O$139*25+$P$139*298 -> 0.05489 | N140: =G140*F140 -> 3.322 | P140: III lisa väärtused on toodud siin tölehel alates lahtrist E150 ja I150. E on kindlaks määratud vastavalt meetoditele, mis on sätestatud direktiivi (EL) 2018/2001 V lisa C osas ja VI lisa B osas. Tabelid E väärtustega on toodud käesolevalt töölehel alates lahtrist A151
B141: Biokütus | C141: ei | D141: Hüdrogeenitud taimeõli (HVO) | E141: Direktiivi (EL) 2018/2001 kohased tootmisviisid | F141: =G174/1000 -> 0.037 | G141: =D198 -> 73.2 | H141: Kõik sisepõlemismootorid | I141: 3.115 | J141: 5e-05 | K141: 0.00018 | L141: - | M141: =I141*1*0+$O$139*25+$P$139*298 -> 0.05489 | N141: =G141*F141 -> 2.7084 | P141: III lisa väärtused on toodud siin tölehel alates lahtrist E150 ja I150. E on kindlaks määratud vastavalt meetoditele, mis on sätestatud direktiivi (EL) 2018/2001 V lisa C osas ja VI lisa B osas. Tabelid E väärtustega on toodud käesolevalt töölehel alates lahtrist A152
B142: Biokütus | C142: ei | D142: Veeldatud biometaan, LNG otto, keskmine kiirus | E142: transpordi- kütusena, (Veeldatud biogaas), Direktiivi (EL) 2018/2001 kohased tootmisviisid | F142: =G177/1000 -> 0.05 | G142: =$E$233-I142/F142 -> 16 | H142: LNG otto (kahe- kütuseline, keskmine kiirus) | I142: 2.75 | J142: 0 | K142: 0.00011 | L142: 3.1 | M142: =(1-L142/100)*(I142*1*0+J142*25+K142*298)+(L142/100)*25 -> 0.80676382 | N142: =G142*F142 -> 0.8 | P142: III lisa väärtused on toodud siin tölehel alates lahtrist E150 ja I150. E on kindlaks määratud vastavalt meetoditele, mis on sätestatud direktiivi (EL) 2018/2001 V lisa C osas ja VI lisa B osas. Tabelid E väärtustega on toodud käesolevalt töölehel alates lahtrist A153
B143: Biokütus | C143: ei | D143: Veeldatud biometaan, LNG otto, aeglane kiirus | E143: transpordi- kütusena, (Veeldatud biogaas), Direktiivi (EL) 2018/2001 kohased tootmisviisid | F143: =G177/1000 -> 0.05 | G143: =$E$233-I143/F143 -> 16 | H143: LNG otto (kahekütuseline, aeglane kiirus) | I143: 2.75 | J143: 0 | K143: 0.00011 | L143: 1.7 | M143: =(1-L143/100)*(I143*1*0+J143*25+K143*298)+(L143/100)*25 -> 0.45722274 | N143: =G143*F143 -> 0.8 | P143: III lisa väärtused on toodud siin tölehel alates lahtrist E150 ja I150. E on kindlaks määratud vastavalt meetoditele, mis on sätestatud direktiivi (EL) 2018/2001 V lisa C osas ja VI lisa B osas. Tabelid E väärtustega on toodud käesolevalt töölehel alates lahtrist A154
B144: Biokütus | C144: ei | D144: Veeldatud biometaan, LNG diisel | E144: transpordi- kütusena, (Veeldatud biogaas), Direktiivi (EL) 2018/2001 kohased tootmisviisid | F144: =G177/1000 -> 0.05 | G144: =$E$233-I144/F144 -> 16 | H144: LNG diisel (kahe- kütuseline) | I144: 2.75 | J144: 0 | K144: 0.00011 | L144: 0.2 | M144: =(1-L144/100)*(I144*1*0+J144*25+K144*298)+(L144/100)*25 -> 0.08271444 | N144: =G144*F144 -> 0.8 | P144: III lisa väärtused on toodud siin tölehel alates lahtrist E150 ja I150. E on kindlaks määratud vastavalt meetoditele, mis on sätestatud direktiivi (EL) 2018/2001 V lisa C osas ja VI lisa B osas. Tabelid E väärtustega on toodud käesolevalt töölehel alates lahtrist A155
B145: Biokütus | C145: ei | D145: Veeldatud biometaan, LBSI | E145: transpordi- kütusena, (Veeldatud biogaas), Direktiivi (EL) 2018/2001 kohased tootmisviisid | F145: =G177/1000 -> 0.05 | G145: =$E$233-I145/F145 -> 16 | H145: LBSI | I145: 2.75 | J145: 0 | K145: 0.00011 | L145: 2.6 | M145: =(1-L145/100)*(I145*1*0+J145*25+K145*298)+(L145/100)*25 -> 0.68192772 | N145: =G145*F145 -> 0.8 | P145: III lisa väärtused on toodud siin tölehel alates lahtrist E150 ja I150. E on kindlaks määratud vastavalt meetoditele, mis on sätestatud direktiivi (EL) 2018/2001 V lisa C osas ja VI lisa B osas. Tabelid E väärtustega on toodud käesolevalt töölehel alates lahtrist A156
B146: Biokütus | C146: ei | D146: Biometanool | E146: Direktiivi (EL) 2018/2001 kohased tootmisviisid | F146: =K172/1000 -> 0.02 | G146: =D217 -> 16.2 | H146: Kõik sisepõlemismootorid | I146: 1.375 | J146: TBM | K146: TBM | L146: - | M146: =I146*1*0+$O$139*25+$P$139*298 -> 0.05489 | N146: =G146*F146 -> 0.324 | P146: III lisa väärtused on toodud siin tölehel alates lahtrist E150 ja I150. E on kindlaks määratud vastavalt meetoditele, mis on sätestatud direktiivi (EL) 2018/2001 V lisa C osas ja VI lisa B osas. Tabelid E väärtustega on toodud käesolevalt töölehel alates lahtrist A157
B147: Biokütus | C147: ei | D147: Biometanool, kontrollimata päritolu | E147: Muud direktiivi (EL) 2018/2001 kohased tootmisviisid | F147: =K172/1000 -> 0.02 | G147: =G138 -> 31.3 | H147: Kõik sisepõlemismootorid | I147: 3.115 | J147: 5e-05 | K147: 0.00018 | L147: - | M147: =I147*1*0+$O$139*25+$P$139*298 -> 0.05489 | N147: =G147*F147 -> 0.626 | P147: III lisa väärtused on toodud siin tölehel alates lahtrist E150 ja I150. E on kindlaks määratud vastavalt meetoditele, mis on sätestatud direktiivi (EL) 2018/2001 V lisa C osas ja VI lisa B osas. Tabelid E väärtustega on toodud käesolevalt töölehel alates lahtrist A158
B148: Biokütus | C148: jah | D148: Biovesinik Kütuselement | E148: Direktiivi (EL) 2018/2001 kohased tootmisviisid | F148: =K181/1000 -> 0.12 | G148: N/A | H148: Kütuse- elemendid | I148: 0 | J148: 0 | K148: 0 | L148: - | M148: =I148*1*0+J148*25+K148*298 -> 0 | P148: III lisa väärtused on toodud siin tölehel alates lahtrist E150 ja I150. E on kindlaks määratud vastavalt meetoditele, mis on sätestatud direktiivi (EL) 2018/2001 V lisa C osas ja VI lisa B osas. Tabelid E väärtustega on toodud käesolevalt töölehel alates lahtrist A159
B149: Biokütus | C149: jah | D149: Biovesinik sisepõlemismootor | E149: Direktiivi (EL) 2018/2001 kohased tootmisviisid | F149: =K181/1000 -> 0.12 | G149: N/A | H149: Sisepõlemismootor | I149: 0 | J149: 0 | K149: TBM | M149: =I149*1*0+$J$149*25+$P$139*298 -> 0.05364 | P149: III lisa väärtused on toodud siin tölehel alates lahtrist E150 ja I150. E on kindlaks määratud vastavalt meetoditele, mis on sätestatud direktiivi (EL) 2018/2001 V lisa C osas ja VI lisa B osas. Tabelid E väärtustega on toodud käesolevalt töölehel alates lahtrist A160
...

Sheet Ümberarvutused
A2: Kütuste ümberarvutus massi- või mahuühikult energiaühikule
A3: Kütuse liik | B3: Kogus (sisestada siia!) | C3: Ühik | D3: Energiasialdus | E3: Ühik | F3: Energiasialdus | G3: Ühik | H3: Kogus energiaühikutes | I3: Ühik | K3: Allikas: | L3: GREENHOUSE GAS EMISSIONS IN ESTONIA 1990-2020 NATIONAL INVENTORY REPORT
A4: Vesinik | B4: 0 | C4: t/a | D4: 119.93 | E4: GJ/t | F4: =D4*$A$14/1000 -> 33.313916 | G4: MWh/t | H4: =F4*B4 -> 0 | I4: MWh/a | K4: https://unfccc.int/sites/default/files/resource/est-2022-nir-12apr22_0.zip
A5: Bensiin | B5: 0 | C5: t/a | D5: 44 | E5: GJ/t | F5: =D5*$A$14/1000 -> 12.222232 | G5: MWh/t | H5: =F5*B5 -> 0 | I5: MWh/a | K5: Tabelid: 3.9 lk 79-80
A6: Diisel | B6: 398.2 | C6: t/a | D6: 42.3 | E6: GJ/t | F6: =D6*$A$14/1000 -> 11.750009 | G6: MWh/t | H6: =F6*B6 -> 4678.8537 | I6: MWh/a | K6: Table 3.9. Carbon emission factors (CEF), oxidation factors and net calorific values (NCV) by fuels for 2020
A7: Biomass | B7: 0 | C7: t/a | D7: 11.9 | E7: GJ/t | F7: =D7*$A$14/1000 -> 3.3055582 | G7: MWh/t | H7: =F7*B7 -> 0 | I7: MWh/a
A8: Jäätmepuit | B8: 0 | C8: t/a | D8: 19.21 | E8: GJ/t | F8: =D8*$A$14/1000 -> 5.3361154 | G8: MWh/t | H8: =F8*B8 -> 0 | I8: MWh/a
A9: Biogaas | B9: 0 | C9: 1000 m3 | D9: 17.4 | E9: GJ/1000 m3 | F9: =D9*$A$14/1000 -> 4.8333372 | G9: MWh/1000 m3 | H9: =F9*B9 -> 0 | I9: MWh/a
A10: Biometaan | B10: 0 | C10: 1000 m3 | D10: 34.13 | E10: GJ/1000 m3 | F10: =D10*$A$14/1000 -> 9.4805631 | G10: MWh/1000 m3 | H10: =F10*B10 -> 0 | I10: MWh/a
A11: Biometaan | B11: 0 | C11: t/a | D11: 50 | E11: GJ/t | F11: =D11*$A$14/1000 -> 13.8889 | G11: MWh/t | H11: =F11*B11 -> 0 | I11: MWh/a
A13: Teisendus: | G13: MJ | H13: 1 | I13: =H13*I17/H17 -> 3600
A14: 277.778 | B14: * 277.778 - teisendus TJ ->MWh, 1 TJ = 277,778 MWh; / 1000 TJ > GJ | H14: = | I14: =
A15: Vesiniku energiatihedus: | G15: kWh | H15: 0.2778 | I15: =I13/1000 -> 3.6
A16: 119.93 | B16: MJ/kg | H16: = | I16: =
A17: 33.31 | B17: kWh/kg | G17: MWh | H17: 0.00027777778 | I17: 1
A18: Allikas: EESTI VESINIKURESSURSSIDE KASUTUSELEVÕTU ANALÜÜS, lõpparuanne, lk 36 https://cdn.sei.org/wp-content/uploads/2021/07/lopparuanne-vesinikuressursside-kasutamise-analuus.pdf või ka https://en.wikipedia.org/wiki/Energy_density, tabel „Energy released by chemical reactions (oxidation)“, rida 3 – gaasiline vesinik normaalrõhul.
A19: MJ/kg=GJ/t
A20: kWh/kg=MWh/t | C20: =D5*B24/1000 -> 33.11 | K20: kWh/a - MJa | M20: 1923600 | N20: kWh/a
K21: =I15*M20 -> 6924960
A22: Kütuse teisendus m3 > t | F22: Selgitus: Tegemist on abitabeliga! Siit saadud Koguse tonnides saab sisestada tabelisse "Kütuste ümberarvutus massi- või mahuühikult energiaühikule" tulpa "Kogus"
A23: Kütuse liik | B23: Kütuse tihedus* | C23: Ühik | D23: Kogus m3 | E23: Kogus t
A24: Bensiin | B24: =AVERAGE(725,780) -> 752.5 | C24: kg/m3 | D24: 1 | E24: =D24*B24/1000 -> 0.7525
A25: Diisel | B25: =AVERAGE(820,860,800,845) -> 831.25 | C25: kg/m3 | D25: 479.059 | E25: =D25*B25/1000 -> 398.21779
A26: * - allikas: Vedelkütuste kvaliteedinõuded, riigi teataja
A27: https://www.riigiteataja.ee/akt/174925

Sheet Preemiategur
A1: Siia lehele lisada vajadusel tuuleenergia preemiateguri arvutuskäik koos lähteanmeid tõendavate viidetega. Vajadusel lisada taotlusele viitete andmeid tõendav dokumentasioon.
A2: Juhised arvutuseks on toodud KOMISJONI RAKENDUSMÄÄRUS (EL) 2024/2031
A3: https://eur-lex.europa.eu/legal-content/ET/TXT/PDF/?uri=CELEX:32023R1805
A4: I Lisa, lk 42
B6: Pwind | C6: Pprop | D6: Pwind/Pprop | E6: fwind
B7: lisada arvutuskäik väärtuse leidmiseks | C7: lisada arvutuskäik väärtuse leidmiseks | D7: =IFERROR(B7/C7," ") | E7: =IFERROR(IF(D7+D13,E13,_xlfn.FORECAST.LINEAR(D7,D11:D13,E11:E13)),1) -> 1
D9: Abitabel
D10: Pwind/Pprop | E10: fwind
D11: 0.05 | E11: 0.99
D12: 0.01 | E12: 0.97
D13: 0.015 | E13: 0.95

Sheet EEDI
A1: Siia lehele lisada laeva renoveerimisjärgse EEDI prognoosi arvutuskäik
A2: Arvutuskäiguks vajalikud juhised on toodud MEPC.328(76) regulatsioonis 24
A3: Viide: | B3: MEPC 76-15-Add.1 - Report Of The Marine...eventy-Sixth Session (Secretariat).pdf
A4: EEDI | B4: 0 | C4: Selgitus - sellesse lahtrisse sisestada EEDI arvutuste käigus saadud lõppväärtus. Arvutuskäik esitada käesoleval lehel koos viidetega andmete algallikatele. Vajadusel lisada taotlusele tõendav dokumentatsioon.
C5: Ilma CO2 heitmeta laev
