Workbook

Sheet Arvutusvorm
B2: kollased väljad on taotlejale info sisestamiseks
B3: oranzid väljad on taotlejale rippmenüüst valiku tegemiseks
B4: valged väljad on sisustatud valemitega, mille tulemusel arvutatakse näitajad automaatselt välja
B6: Projekti üldandmed
B7: Taotleja
B8: Projekti nimi
B9: Projekti kogumaksumus ilma käibemaksuta | D9: €
B10: Toetuse suurus | D10: €
B11: Toetuse osakaal | C11: =IFERROR((C10/C9*100)," ") | D11: %
B12: Taotletakse ainult vähese tähtusega abi | C12: Jah | D12: Valikvastus
B15: Renoveeritava laeva üldandmed
B17: Renoveeritava laeva tüüp | C17: Ro-ro/ro-pax laev (Ro-ro cargo ship) | E17: Valikvastus
B18: Renoveeritud laeva määratlus vastavalt GBER art 1 p. 102 f), d) | C18: keskkonnasõbralik sõiduk | E18: Valikvastus | F18: Viide | G18: EUR-Lex - 02014R0651-20230701 - EUR-Lex
B19: Laev vastab peale renoveerimist nõudele | C19: 5) Mere- ja rannikulaev reisijate- või kaubaveoks, sadamatoiminguteks või abitegevuseks, millel puudub (väljalasketoru) CO2 otseheide | E19: Valikvastus
B20: Renoveeritud laeva mootori tüüp | C20: hübriidmootor | E20: Valikvastus | F20: Valikvastuse "mootor maismaatranspordi ümbersuunamiseks merele" tuleb taotlusega koos esitada eel-lepe veoste tellijaga koos vastava transpordi koguste (t) ja veoste alg-ning lõpp-punktide (km) infoga projektile järgneva viie aasta jooksul. Järelaruannetega tuleb taotlejal vastavaid vedusid ka tõendada. Tegevus on abikõlblik, kui laeva kasutuseesmärgiks on ainult maismaatranspordi ümbersuunamiseks merele tehtavad veosed, laeva hoolduse ja ülevaatuse, talvesadamasse viimise või ohuolukordadega seotud sõidud.
B21: Laeva energiatõhususe indeks EEXI enne ümberehitust | E21: gCO2/tonn-meremiil | G21: Selgitus: palume lisada taotluse juurde EEXI arvutamise asjakohane dokumentatsioon
B22: Laeva energiatõhususe indeks EEXI pärast ümberehitust | E22: gCO2/tonn-meremiil | G22: Selgitus: palume lisada taotluse juurde EEXI arvutamise asjakohane dokumentatsioon
B25: Energiakulu ja kasvuhoonegaaside heite (KHG) koondtulemused arvutatakse välja automaatselt pärast alljärgnevate energiakulu tabelite täitmist. Täita tuleb tabel 1, 1a, 2, 2a, 3 (kui asjakohane).
B28: Koondtulemused
B29: EEXI muutus | C29: =IF(OR(C21="",C22="",C21=0),"",(C21-C22)/C21) | D29: % | E29: Vastavuskriteerium, tulemusnäitaja | H29: Selgitus: renoveerimise tulemusel peab laeva EEXI vähenema vähemalt 10% ehk energiatõhusus suurenema. Arvutamise juhend: 2022 GUIDELINES ON THE METHOD OF CALCULATION OF THE ATTAINED ENERGY EFFICIENCY EXISTING SHIP INDEX (EEXI). | Y29: Link juhendile
B30: Laeva KHG heite muutus pärast renoveerimist | C30: =C113-C71 -> 0 | D30: tCO2e/a | E30: Tulemusnäitaja (negatiivse väärtusega tulemus näitab KHG heite vähenemist, positiivse väärtusega tulemus KHG suurenemist pärast laeva renoveerimist) | H30: Selgitus: Tegelik KHG heitkoguse muutus arvutatakse iga renoveerimisjärgse aasta kohta ja summeeritakse järelaruandes. Taotlemise ajal kasutatakse käesolevas arvutustabelis prognoosnäitajaid, et hinnata ligikaudset kütusekasutust ja KHG heite muutust aastas. Toetuse saaja esitab järelaruande kolm aastat pärast lõppmakse saamist kõigi aastate kaupa. Igal aasta kohta kasutatakse arvutamiseks käesolevat Exceli vormi, kus laeva energiakulu enne renoveerimist on muutumatu väärtus (sama, mis taotluses), kuid uuendatakse vastava aasta tegelikke renoveerimisjärgseid kütustetüüpide ja koguste andmeid. Kolme aasta summaarne KHG heitkoguse muutus peab olema netonegatiivne väärtus ehk kolme aasta jooksul peab toimuma KHG heitkoguste summaarne vähenemine võrreldes esialgse olukorraga.
B31: Laeva mootorid ja kütused vastavad määruse keskkonnasõbraliku sõiduki nõuetele | C31: =IF(C12="Jah","Mittekohalduv",C123) -> Mittekohalduv | E31: Vastavuskriteerium v.a vähese tähtsusega abina toetatavad tegevused (TAT § 7 lõige 1 p 2), väljundnäitaja | H31: Selgitus: vastavuskriteeriumi valikuid on kirjeldatud ja kontrollitud töölehe lõpus
B32: Laeva mootorid ja kütused vastavad määruse heiteta sõiduki nõuetele | C32: =IF(C12="Jah","Mittekohalduv",C124) -> Mittekohalduv | E32: Vastavuskriteerium v.a vähese tähtsusega abina toetatavad tegevused (TAT § 7 lõige 1 p 2), väljundnäitaja | H32: Selgitus: vastavuskriteeriumi valikuid on kirjeldatud ja kontrollitud töölehe lõpus
B33: Kõrvaltegevuste panus laeva KHG heitkoguste vähendamisse, kui toetust antakse kõrvaltegevustele | D33: kirjeldav tekst | E33: Selgitus: Kuna abikõlbulikud kõrvaltegevused nagu näiteks kergema mööblieseme soetamine ei pruugi saavutada toetuse tulemusnäitajate sihtväärtuseid (10% EEXI indeksi vähenemine ja KHG vähenemine kolme aasta KHG heitkoguse muutuse summana), ei ole kõrvaltegevuste mõju arvutamine efektiivne. Palume lühidalt selgitada tekstiliselt, milline on projekti kõrvaltegevuste mõju laeva kasvuhoonegaaside heitkoguste vähendamisele ning kuidas need toetavad projekti eesmärgi saavutamist.
B35: Energiakulu enne laeva renoveerimist Sisestada laeva aastane kütuste- ja elektrikulu. Kütust tarbivateks üksusteks on peamootor(id), abimootor(id), katlad, kütuseelemendid ja jäätmepõletusseadmed. Sisestada nii laeval toodetud heitevaba taastuvelektri tarbimine kui ka kaldaelektri tarbimine. Kütuste kogused sisestada tonnides (vajadusel teha ümberarvutused näidates sisestamisel nii algühikuid kui teisenduskäiku algühikutest tonnidesse (valemi sees). Elektri kogused sisestada MWh-des. Laeval toodetud heitevaba taastuvelektri heite saab lugeda nulliks, kui elekter on toodetud päikesest või tuulest. Kaldaelekter - elekter, mis on laevale tarnitud ja ei ole laeval toodetud. Näiteks laeva akude laadimiseks või sadamas viibimise ajal laeva elektrivarustuse tagamiseks kasutatav elekter. Andmed enne renoveerimist toimunud kütuste kasutuse kohta esitatakse Määruse EL 2023/1085 Art 8 alusel koosatud seirekava alusel vastavalt vormile KOMISJONI RAKENDUSMÄÄRUS (EL) 2024/2031, seirekava ja dokument selle tõendamise kohta kolmanda osapoole poolt listakse taotluse dokumentide juurde. Kui seirekava ei hõlma täit eelnevat kalendriaastat , siis esitada täiendavad tõendusandmed eelneval aastal kasutatud kütuste koguste osas või põhjendatud juhtudel ka kuni viieaastase perioodi kütuste kasutuse keskmiste koguste kohta. Määruse EL 2023/1085 Art 6 l 5 f) alusel on pardal olevad kaldaelektri toitega ühendamise seadmed sertifitseeritud kooskõlas määruse (EL) 2023/1804 II lisas sätestatud merelaevade kaldaelektri toitega ühendamise süsteemide tehnilistele kirjeldustega.
B41: kollased väljad on info sisestamiseks
B42: oranzid väljad on rippmenüüst valiku tegemiseks
B43: valged väljad on sisustatud valemitega, mille tulemusel arvutatakse näitajad automaatselt välja
B45: Tabel 1. Energiakulu enne renoveerimist.
B47: Sisesta esimesele kahele reale elektri tarbimine ja järgmistele kütuste tarbimine seadmete kaupa (nt põhimootor(id), lisamootor(id), katel, kütuseelement, jäätmepõletusseade) | C47: Kütuse/energia tüüp | D47: Kogus aastas | E47: Ühik (elekter MWh, kütused tonnides) | F47: Kütteväärtus, alumine (MJ/g) | G47: Eriheitetegur WtT - allikast paagini, kütuse tootmise ja tarne KHG heide (g CO2ekv/g kütus) | H47: Eriheitetegur TtW - paagist pardani, laevas kütuse kasutamisel toimuv KHG heide (g CO2ekv/g kütus) | I47: Kogus energia-ühikutes (MWh)/a | J47: KHG heide, WtT - allikast paagini, tCO2e/a | K47: KHG heide, WtT - TtW - paagist pardani, tCO2e/a | L47: KHG heide kokku (WtT - TtW - paagist pardani, tCO2e/a | M47: Kütuse osakaal, % | N47: taastuvast energiaallikast pärit kütuste osakaal energiatarbest (MWh/a) | O47: (väljalasketoru) CO2 otseheiteta kütus | P47: (väljalasketoru) CO2 otseheiteta kütuste osakaal energiatarbest, % | Q47: Biokütuse preemiategur - Taastuvenergia direktiivi nõuetele vastavatele bioloogilise päritoluga kütustele kehtib preemiategur 2, muul juhul preemiategur on 1
B48: Kaldaelekter | C48: Elektrienergia (taastumatu elekter võrgust) | E48: MWh/a | G48: =IFERROR(_xlfn.XLOOKUP(C48,Eriheited!$D$124:$D$164,Eriheited!$N$124:$N$164),0) -> 0 | H48: =IFERROR(_xlfn.XLOOKUP(C48,Eriheited!$D$124:$D$164,Eriheited!$M$124:$M$164),0) -> 0 | I48: =D48 -> 0 | J48: =D48*G48 -> 0 | K48: =D48*H48 -> 0 | L48: =J48+K48 -> 0 | M48: =IFERROR((I48/$I$68*100),0) -> 0 | N48: =IFERROR(IF(_xlfn.XLOOKUP(C48,Eriheited!$D$124:$D$166,Eriheited!$B$124:$B$166)="Fossiilkütused",0,I48),0) -> 0 | O48: =IFERROR(_xlfn.XLOOKUP(C48,Eriheited!$D$124:$D$164,Eriheited!$C$124:$C$164)," ") -> jah | P48: =M48*IF(O48="jah",1,0) -> 0 | Q48: =IFERROR(IF(_xlfn.XLOOKUP(C48,Eriheited!$D$124:$D$166,Eriheited!$B$124:$B$166)="Biokütus",2,1)," ") -> 1
B49: Laeval toodetud heitevaba taastuvelekter (täpsusta seade: … ) | C49: Elektrienergia (taastuvelekter lokaalne) | E49: MWh/a | G49: =IFERROR(_xlfn.XLOOKUP(C49,Eriheited!$D$124:$D$164,Eriheited!$N$124:$N$164),0) -> 0 | H49: =IFERROR(_xlfn.XLOOKUP(C49,Eriheited!$D$124:$D$164,Eriheited!$M$124:$M$164),0) -> 0 | I49: =D49 -> 0 | J49: =D49*G49 -> 0 | K49: =D49*H49 -> 0 | L49: =J49+K49 -> 0 | M49: =IFERROR((I49/$I$68*100),0) -> 0 | N49: =IFERROR(IF(_xlfn.XLOOKUP(C49,Eriheited!$D$124:$D$166,Eriheited!$B$124:$B$166)="Fossiilkütused",0,I49),0) -> 0 | O49: =IFERROR(_xlfn.XLOOKUP(C49,Eriheited!$D$124:$D$164,Eriheited!$C$124:$C$164)," ") -> jah | P49: =M49*IF(O49="jah",1,0) -> 0 | Q49: =IFERROR(IF(_xlfn.XLOOKUP(C49,Eriheited!$D$124:$D$166,Eriheited!$B$124:$B$166)="Biokütus",2,1)," ") -> 1
B50: Seade: … | C50: Laeva diislikütus | E50: t/a | F50: =IFERROR(_xlfn.XLOOKUP(C50,Eriheited!$D$124:$D$164,Eriheited!$F$124:$F$164),0) -> 0.0427 | G50: =IFERROR(_xlfn.XLOOKUP(C50,Eriheited!$D$124:$D$164,Eriheited!$N$124:$N$164),0) -> 0.61488 | H50: =IFERROR(_xlfn.XLOOKUP(C50,Eriheited!$D$124:$D$164,Eriheited!$M$124:$M$164),0) -> 3.26089 | I50: =D50*1000000*F50*Ümberarvutused!$H$17 -> 0 | J50: =D50*G50 -> 0 | K50: =D50*H50 -> 0 | L50: =J50+K50 -> 0 | M50: =IFERROR((I50/$I$68*100),0) -> 0 | N50: =IFERROR(IF(_xlfn.XLOOKUP(C50,Eriheited!$D$124:$D$166,Eriheited!$B$124:$B$166)="Fossiilkütused",0,I50),0) -> 0 | O50: =IFERROR(_xlfn.XLOOKUP(C50,Eriheited!$D$124:$D$164,Eriheited!$C$124:$C$164)," ") -> ei | P50: =M50*IF(O50="jah",1,0) -> 0 | Q50: =IFERROR(IF(_xlfn.XLOOKUP(C50,Eriheited!$D$124:$D$166,Eriheited!$B$124:$B$166)="Biokütus",2,1)," ") -> 1
B51: Seade: … | C51: Laeva diislikütus | E51: t/a | F51: =IFERROR(_xlfn.XLOOKUP(C51,Eriheited!$D$124:$D$164,Eriheited!$F$124:$F$164),0) -> 0.0427 | G51: =IFERROR(_xlfn.XLOOKUP(C51,Eriheited!$D$124:$D$164,Eriheited!$N$124:$N$164),0) -> 0.61488 | H51: =IFERROR(_xlfn.XLOOKUP(C51,Eriheited!$D$124:$D$164,Eriheited!$M$124:$M$164),0) -> 3.26089 | I51: =D51*1000000*F51*Ümberarvutused!$H$17 -> 0 | J51: =D51*G51 -> 0 | K51: =D51*H51 -> 0 | L51: =J51+K51 -> 0 | M51: =IFERROR((I51/$I$68*100),0) -> 0 | N51: =IFERROR(IF(_xlfn.XLOOKUP(C51,Eriheited!$D$124:$D$166,Eriheited!$B$124:$B$166)="Fossiilkütused",0,I51),0) -> 0 | O51: =IFERROR(_xlfn.XLOOKUP(C51,Eriheited!$D$124:$D$164,Eriheited!$C$124:$C$164)," ") -> ei | P51: =M51*IF(O51="jah",1,0) -> 0 | Q51: =IFERROR(IF(_xlfn.XLOOKUP(C51,Eriheited!$D$124:$D$166,Eriheited!$B$124:$B$166)="Biokütus",2,1)," ") -> 1
B52: Seade: … | C52: Kütuse valik | E52: t/a | F52: =IFERROR(_xlfn.XLOOKUP(C52,Eriheited!$D$124:$D$164,Eriheited!$F$124:$F$164),0) -> 0 | G52: =IFERROR(_xlfn.XLOOKUP(C52,Eriheited!$D$124:$D$164,Eriheited!$N$124:$N$164),0) -> 0 | H52: =IFERROR(_xlfn.XLOOKUP(C52,Eriheited!$D$124:$D$164,Eriheited!$M$124:$M$164),0) -> 0 | I52: =D52*1000000*F52*Ümberarvutused!$H$17 -> 0 | J52: =D52*G52 -> 0 | K52: =D52*H52 -> 0 | L52: =J52+K52 -> 0 | M52: =IFERROR((I52/$I$68*100),0) -> 0 | N52: =IFERROR(IF(_xlfn.XLOOKUP(C52,Eriheited!$D$124:$D$166,Eriheited!$B$124:$B$166)="Fossiilkütused",0,I52),0) -> 0 | O52: =IFERROR(_xlfn.XLOOKUP(C52,Eriheited!$D$124:$D$164,Eriheited!$C$124:$C$164)," ") | P52: =M52*IF(O52="jah",1,0) -> 0 | Q52: =IFERROR(IF(_xlfn.XLOOKUP(C52,Eriheited!$D$124:$D$166,Eriheited!$B$124:$B$166)="Biokütus",2,1)," ")
B53: Seade: … | C53: Kütuse valik | E53: t/a | F53: =IFERROR(_xlfn.XLOOKUP(C53,Eriheited!$D$124:$D$164,Eriheited!$F$124:$F$164),0) -> 0 | G53: =IFERROR(_xlfn.XLOOKUP(C53,Eriheited!$D$124:$D$164,Eriheited!$N$124:$N$164),0) -> 0 | H53: =IFERROR(_xlfn.XLOOKUP(C53,Eriheited!$D$124:$D$164,Eriheited!$M$124:$M$164),0) -> 0 | I53: =D53*1000000*F53*Ümberarvutused!$H$17 -> 0 | J53: =D53*G53 -> 0 | K53: =D53*H53 -> 0 | L53: =J53+K53 -> 0 | M53: =IFERROR((I53/$I$68*100),0) -> 0 | N53: =IFERROR(IF(_xlfn.XLOOKUP(C53,Eriheited!$D$124:$D$166,Eriheited!$B$124:$B$166)="Fossiilkütused",0,I53),0) -> 0 | O53: =IFERROR(_xlfn.XLOOKUP(C53,Eriheited!$D$124:$D$164,Eriheited!$C$124:$C$164)," ") | P53: =M53*IF(O53="jah",1,0) -> 0 | Q53: =IFERROR(IF(_xlfn.XLOOKUP(C53,Eriheited!$D$124:$D$166,Eriheited!$B$124:$B$166)="Biokütus",2,1)," ")
B54: Seade: … | C54: Kütuse valik | E54: t/a | F54: =IFERROR(_xlfn.XLOOKUP(C54,Eriheited!$D$124:$D$164,Eriheited!$F$124:$F$164),0) -> 0 | G54: =IFERROR(_xlfn.XLOOKUP(C54,Eriheited!$D$124:$D$164,Eriheited!$N$124:$N$164),0) -> 0 | H54: =IFERROR(_xlfn.XLOOKUP(C54,Eriheited!$D$124:$D$164,Eriheited!$M$124:$M$164),0) -> 0 | I54: =D54*1000000*F54*Ümberarvutused!$H$17 -> 0 | J54: =D54*G54 -> 0 | K54: =D54*H54 -> 0 | L54: =J54+K54 -> 0 | M54: =IFERROR((I54/$I$68*100),0) -> 0 | N54: =IFERROR(IF(_xlfn.XLOOKUP(C54,Eriheited!$D$124:$D$166,Eriheited!$B$124:$B$166)="Fossiilkütused",0,I54),0) -> 0 | O54: =IFERROR(_xlfn.XLOOKUP(C54,Eriheited!$D$124:$D$164,Eriheited!$C$124:$C$164)," ") | P54: =M54*IF(O54="jah",1,0) -> 0 | Q54: =IFERROR(IF(_xlfn.XLOOKUP(C54,Eriheited!$D$124:$D$166,Eriheited!$B$124:$B$166)="Biokütus",2,1)," ")
B55: Seade: … | C55: Kütuse valik | E55: t/a | F55: =IFERROR(_xlfn.XLOOKUP(C55,Eriheited!$D$124:$D$164,Eriheited!$F$124:$F$164),0) -> 0 | G55: =IFERROR(_xlfn.XLOOKUP(C55,Eriheited!$D$124:$D$164,Eriheited!$N$124:$N$164),0) -> 0 | H55: =IFERROR(_xlfn.XLOOKUP(C55,Eriheited!$D$124:$D$164,Eriheited!$M$124:$M$164),0) -> 0 | I55: =D55*1000000*F55*Ümberarvutused!$H$17 -> 0 | J55: =D55*G55 -> 0 | K55: =D55*H55 -> 0 | L55: =J55+K55 -> 0 | M55: =IFERROR((I55/$I$68*100),0) -> 0 | N55: =IFERROR(IF(_xlfn.XLOOKUP(C55,Eriheited!$D$124:$D$166,Eriheited!$B$124:$B$166)="Fossiilkütused",0,I55),0) -> 0 | O55: =IFERROR(_xlfn.XLOOKUP(C55,Eriheited!$D$124:$D$164,Eriheited!$C$124:$C$164)," ") | P55: =M55*IF(O55="jah",1,0) -> 0 | Q55: =IFERROR(IF(_xlfn.XLOOKUP(C55,Eriheited!$D$124:$D$166,Eriheited!$B$124:$B$166)="Biokütus",2,1)," ")
B56: Seade: … | C56: Kütuse valik | E56: t/a | F56: =IFERROR(_xlfn.XLOOKUP(C56,Eriheited!$D$124:$D$164,Eriheited!$F$124:$F$164),0) -> 0 | G56: =IFERROR(_xlfn.XLOOKUP(C56,Eriheited!$D$124:$D$164,Eriheited!$N$124:$N$164),0) -> 0 | H56: =IFERROR(_xlfn.XLOOKUP(C56,Eriheited!$D$124:$D$164,Eriheited!$M$124:$M$164),0) -> 0 | I56: =D56*1000000*F56*Ümberarvutused!$H$17 -> 0 | J56: =D56*G56 -> 0 | K56: =D56*H56 -> 0 | L56: =J56+K56 -> 0 | M56: =IFERROR((I56/$I$68*100),0) -> 0 | N56: =IFERROR(IF(_xlfn.XLOOKUP(C56,Eriheited!$D$124:$D$166,Eriheited!$B$124:$B$166)="Fossiilkütused",0,I56),0) -> 0 | O56: =IFERROR(_xlfn.XLOOKUP(C56,Eriheited!$D$124:$D$164,Eriheited!$C$124:$C$164)," ") | P56: =M56*IF(O56="jah",1,0) -> 0 | Q56: =IFERROR(IF(_xlfn.XLOOKUP(C56,Eriheited!$D$124:$D$166,Eriheited!$B$124:$B$166)="Biokütus",2,1)," ")
B57: Seade: … | C57: Kütuse valik | E57: t/a | F57: =IFERROR(_xlfn.XLOOKUP(C57,Eriheited!$D$124:$D$164,Eriheited!$F$124:$F$164),0) -> 0 | G57: =IFERROR(_xlfn.XLOOKUP(C57,Eriheited!$D$124:$D$164,Eriheited!$N$124:$N$164),0) -> 0 | H57: =IFERROR(_xlfn.XLOOKUP(C57,Eriheited!$D$124:$D$164,Eriheited!$M$124:$M$164),0) -> 0 | I57: =D57*1000000*F57*Ümberarvutused!$H$17 -> 0 | J57: =D57*G57 -> 0 | K57: =D57*H57 -> 0 | L57: =J57+K57 -> 0 | M57: =IFERROR((I57/$I$68*100),0) -> 0 | N57: =IFERROR(IF(_xlfn.XLOOKUP(C57,Eriheited!$D$124:$D$166,Eriheited!$B$124:$B$166)="Fossiilkütused",0,I57),0) -> 0 | O57: =IFERROR(_xlfn.XLOOKUP(C57,Eriheited!$D$124:$D$164,Eriheited!$C$124:$C$164)," ") | P57: =M57*IF(O57="jah",1,0) -> 0 | Q57: =IFERROR(IF(_xlfn.XLOOKUP(C57,Eriheited!$D$124:$D$166,Eriheited!$B$124:$B$166)="Biokütus",2,1)," ")
...

Sheet Eriheited
B1: Eriheited
B2: KHG jalajälje arvutusmudel 2024.19.11.xlsx | 710.39 KB | xlsx | D2: Kliimaministeerium | E2: https://kliimaministeerium.ee/rohereform-kliima/rohereform/organisatsioonide-khg-jalajalg#mudel
B3: Laevatüüp ja suurus valikvastusena | C3: Laevatüüp ja suurus | D3: Eriheitetegur | E3: Ühik | F3: Andmeallikas
B4: Kemikaalitanker | C4: Kemikaalitanker (keskmistatud) | D4: 0.010322 | E4: kg CO2 ekv/tonn-km | F4: UK GHG Conversion Factors 2021 (keskmistatud võttes arvesse üldlevinud kemikaalitankerite suurust/tüüpi ja kasutamist)
B5: Konteinerilaev | C5: Konteinerilaev (keskmistatud) | D5: 0.016142 | E5: kg CO2 ekv/tonn-km | F5: UK GHG Conversion Factors 2021 (keskmistatud võttes arvesse üldlevinud konteinerilaevade suurust/tüüpi ja kasutamist)
B6: Külmutatud kauba laev | C6: Külmutatud kauba laev (kõik DWT-d) | D6: 0.01308 | E6: kg CO2 ekv/tonn-km | F6: UK GHG Conversion Factors 2021 (keskmistatud võttes arvesse üldlevinud külmutatud laevade suurust/tüüpi ja kasutamist)
B7: LNG tanker | C7: LNG tanker (keskmistatud) | D7: 0.011548 | E7: kg CO2 ekv/tonn-km | F7: UK GHG Conversion Factors 2021 (keskmistatud võttes arvesse üldlevinud LNG tankerite suurust/tüüpi ja kasutamist)
B8: LPG tanker | C8: LPG tanker (keskmistatud) | D8: 0.010382 | E8: kg CO2 ekv/tonn-km | F8: UK GHG Conversion Factors 2021 (keskmistatud võttes arvesse üldlevinud LPG tankerite suurust/tüüpi ja kasutamist)
B9: Naftatanker | C9: Naftatanker (keskmistatud) | D9: 0.004572 | E9: kg CO2 ekv/tonn-km | F9: UK GHG Conversion Factors 2021 (keskmistatud võttes arvesse üldlevinud naftatankerite suurust/tüüpi ja kasutamist)
B10: Parvlaev (reisi-kaubalaev) | C10: Parvlaev (reisi-kaubalaev, nt Tallinn-Helsingi/Stockholm) | D10: 0.082 | E10: kg CO2 ekv/tonn-km | F10: LIPASTO
B11: Puistlastilaev (bulker) | C11: Puistlastilaev (bulker) (keskmistatud) | D11: 0.003539 | E11: kg CO2 ekv/tonn-km | F11: UK GHG Conversion Factors 2021 (keskmistatud võttes arvesse üldlevinud puitlastilaevade suurust/tüüpi ja kasutamist)
B12: Ro-ro/ro-pax laev (2000+ LM) | C12: Ro-ro/ro-pax laev (2000+ LM) | D12: 0.050189 | E12: kg CO2 ekv/tonn-km | F12: UK GHG Conversion Factors 2021
B13: Ro-ro/ro-pax laev (kuni 2000 LM) | C13: Ro-ro/ro-pax laev (valdav osa Eesti ja Põhjamaade vahel sõitvatest laevadest) (kuni 2000 LM) | D13: 0.061139 | E13: kg CO₂ ekv/tonn-km | F13: UK GHG Conversion Factors 2021
B14: Sõidukite transpordilaev | C14: Sõidukite transpordilaev (keskmistatud) | D14: 0.038579 | E14: kg CO2 ekv/tonn-km | F14: UK GHG Conversion Factors 2021 (keskmistatud võttes arvesse üldlevinud transpordilaevade suurust/tüüpi ja kasutamist)
B15: Tootetanker | C15: Tootetanker (keskmistatud) | D15: 0.009034 | E15: kg CO2 ekv/tonn-km | F15: UK GHG Conversion Factors 2021 (keskmistatud võttes arvesse üldlevinud tootetankerite suurust/tüüpi ja kasutamist)
B16: Üldkaubalaev | C16: Üldkaubalaev (keskmistatud) | D16: 0.013232 | E16: kg CO2 ekv/tonn-km | F16: UK GHG Conversion Factors 2021 (keskmistatud võttes arvesse üldlevinud üldkaubalevade suurust/tüüpi ja kasutamist)
B17: Parvlaev (reisilaev) | C17: Parvlaev, reisi-kaubalaev (nt Tallinn-Helsingi/Stockholm) | D17: 0.019 | E17: kg CO2 ekv/sõitja-km
B19: Viited | C19: https://kliimaministeerium.ee/sites/default/files/documents/2024-11/KHG%20jalaj%C3%A4lje%20arvutusmudel%202024.11.19.xlsx
C20: UK GHG Conversion Factors 2021 | F20: https://www.gov.uk/government/collections/government-conversion-factors-for-company-reporting
C21: VTT LIPASTO calculation system for transport exhaust emissions and energy use in Finland | K21: http://lipasto.vtt.fi/en/index.htm
B23: RESOLUTION MEPC.308(73) (adopted on 26 October 2018) 2018 GUIDELINES ON THE METHOD OF CALCULATION OF THE ATTAINED ENERGY EFFICIENCY DESIGN INDEX (EEDI) FOR NEW SHIPS | D23: Viide | E23: https://wwwcdn.imo.org/localresources/en/KnowledgeCentre/IndexofIMOResolutions/MEPCDocuments/MEPC.308(73).pdf
B25: Kütuse tüüp | C25: Type of fuel | D25: Reference | E25: Lower calorific value (kJ/kg) | F25: Carbon content CF (t-CO2/tFuel) | G25: CF (t-CO2/tFuel)
B26: Diisel | C26: 1 Diesel/Gas Oil | D26: ISO 8217 Grades DMX through DMB | E26: 42700 | F26: 0.8744 | G26: 3.206
B27: Kerge kütteõli | C27: 2 Light Fuel Oil (LFO) | D27: ISO 8217 Grades RMA through RMD | E27: 41200 | F27: 0.8594 | G27: 3.151
B28: Raske kütteõli | C28: 3 Heavy Fuel Oil (HFO) | D28: ISO 8217 Grades RME through RMK | E28: 40200 | F28: 0.8493 | G28: 3.114
B29: LPG, propaan | C29: 4 Liquefied Petroleum Gas (LPG) | D29: Propane | E29: 46300 | F29: 0.8182 | G29: 3
B30: LPG, butaan | C30: 4 Liquefied Petroleum Gas (LPG) | D30: Butane | E30: 45700 | F30: 0.8264 | G30: 3.03
B31: LPG (propaan või butaan) | C31: 4 Liquefied Petroleum Gas (LPG) | D31: Butane and Propane | E31: =AVERAGE(E29:E30) -> 46000 | F31: =AVERAGE(F29:F30) -> 0.8223 | G31: =AVERAGE(G29:G30) -> 3.015
B32: LNG | C32: 5 Liquefied Natural Gas (LNG) | E32: 48000 | F32: 0.75 | G32: 2.75
B33: Metanool | C33: 6 Methanol | E33: 19900 | F33: 0.375 | G33: 1.375
B34: Etanool | C34: 7 Ethanol | E34: 26800 | F34: 0.5217 | G34: 1.913
B37: Viited | C37: https://kliimaministeerium.ee/sites/default/files/documents/2024-11/KHG%20jalaj%C3%A4lje%20arvutusmudel%202024.11.19.xlsx
B38: Kütuse-/energialiik | C38: Eriheitetegur | D38: Ühik | E38: Andmeallikas
B39: Biomass (nt puiduhake, saepuru) (kg) | C39: 0.00076469635 | D39: kg CO2 ekv/kg | E39: KHG inventuuri aruanne 2022, kütteväärtus 11,9 MJ/kg
B40: Biomass (nt puiduhake, saepuru) (kWh) | C40: 0.00023133671 | D40: kg CO2 ekv/kWh | E40: KHG inventuuri aruanne 2022, katlad 1-50MW
B41: Biometaan (kWh) | C41: 0.0001141722 | D41: kg CO2 ekv/kWh | E41: KHG inventuuri aruanne 2022, katlad 1-50MW
B42: Biometaan (mᶟ) | C42: 0.0010789273 | D42: kg CO2 ekv/m3 | E42: KHG inventuuri aruanne 2022, katlad 1-50MW, 2020. a maagaasi keskmine alumine kütteväärtus ca 34,13 MJ/m3 (Elering: https://elering.ee/vorgugaasi-kvaliteet)
B43: Diisel (kWh) | C43: 0.26467003 | D43: kg CO2 ekv/kWh | E43: KHG inventuuri aruanne 2022
B44: Diisel (l) | C44: 2.6239092 | D44: kg CO2 ekv/l | E44: KHG inventuuri aruanne 2022, kütteväärtus ~35,69 MJ/l
B45: Kerge kütteõli (kg) | C45: 3.1455791 | D45: kg CO2 ekv/kg | E45: KHG inventuuri aruanne 2022, kütteväärtus 42,5 MJ/kg
...

Sheet Ümberarvutused
A2: Kütuste ümberarvutus massi- või mahuühikult energiaühikule
A3: Kütuse liik | B3: Kogus (sisestada siia!) | C3: Ühik | D3: Energiasialdus | E3: Ühik | F3: Energiasialdus | G3: Ühik | H3: Kogus energiaühikutes | I3: Ühik | K3: Allikas: | L3: GREENHOUSE GAS EMISSIONS IN ESTONIA 1990-2020 NATIONAL INVENTORY REPORT
A4: Vesinik | B4: 0 | C4: t/a | D4: 119.93 | E4: GJ/t | F4: =D4*$A$14/1000 -> 33.313916 | G4: MWh/t | H4: =F4*B4 -> 0 | I4: MWh/a | K4: https://unfccc.int/sites/default/files/resource/est-2022-nir-12apr22_0.zip
A5: Bensiin | B5: 0 | C5: t/a | D5: 44 | E5: GJ/t | F5: =D5*$A$14/1000 -> 12.222232 | G5: MWh/t | H5: =F5*B5 -> 0 | I5: MWh/a | K5: Tabelid: 3.9 lk 79-80
A6: Diisel | B6: 398.2 | C6: t/a | D6: 42.3 | E6: GJ/t | F6: =D6*$A$14/1000 -> 11.750009 | G6: MWh/t | H6: =F6*B6 -> 4678.8537 | I6: MWh/a | K6: Table 3.9. Carbon emission factors (CEF), oxidation factors and net calorific values (NCV) by fuels for 2020
A7: Biomass | B7: 0 | C7: t/a | D7: 11.9 | E7: GJ/t | F7: =D7*$A$14/1000 -> 3.3055582 | G7: MWh/t | H7: =F7*B7 -> 0 | I7: MWh/a
A8: Jäätmepuit | B8: 0 | C8: t/a | D8: 19.21 | E8: GJ/t | F8: =D8*$A$14/1000 -> 5.3361154 | G8: MWh/t | H8: =F8*B8 -> 0 | I8: MWh/a
A9: Biogaas | B9: 0 | C9: 1000 m3 | D9: 17.4 | E9: GJ/1000 m3 | F9: =D9*$A$14/1000 -> 4.8333372 | G9: MWh/1000 m3 | H9: =F9*B9 -> 0 | I9: MWh/a
A10: Biometaan | B10: 0 | C10: 1000 m3 | D10: 34.13 | E10: GJ/1000 m3 | F10: =D10*$A$14/1000 -> 9.4805631 | G10: MWh/1000 m3 | H10: =F10*B10 -> 0 | I10: MWh/a
A11: Biometaan | B11: 0 | C11: t/a | D11: 50 | E11: GJ/t | F11: =D11*$A$14/1000 -> 13.8889 | G11: MWh/t | H11: =F11*B11 -> 0 | I11: MWh/a
A13: Teisendus: | G13: MJ | H13: 1 | I13: =H13*I17/H17 -> 3600
A14: 277.778 | B14: * 277.778 - teisendus TJ ->MWh, 1 TJ = 277,778 MWh; / 1000 TJ > GJ | H14: = | I14: =
A15: Vesiniku energiatihedus: | G15: kWh | H15: 0.2778 | I15: =I13/1000 -> 3.6
A16: 119.93 | B16: MJ/kg | H16: = | I16: =
A17: 33.31 | B17: kWh/kg | G17: MWh | H17: 0.00027777778 | I17: 1
A18: Allikas: EESTI VESINIKURESSURSSIDE KASUTUSELEVÕTU ANALÜÜS, lõpparuanne, lk 36 https://cdn.sei.org/wp-content/uploads/2021/07/lopparuanne-vesinikuressursside-kasutamise-analuus.pdf või ka https://en.wikipedia.org/wiki/Energy_density, tabel „Energy released by chemical reactions (oxidation)“, rida 3 – gaasiline vesinik normaalrõhul.
A19: MJ/kg=GJ/t
A20: kWh/kg=MWh/t | C20: =D5*B24/1000 -> 33.11 | K20: kWh/a - MJa | M20: 1923600 | N20: kWh/a
K21: =I15*M20 -> 6924960
A22: Kütuse teisendus m3 > t | F22: Selgitus: Tegemist on abitabeliga! Siit saadud Koguse tonnides saab sisestada tabelisse "Kütuste ümberarvutus massi- või mahuühikult energiaühikule" tulpa "Kogus"
A23: Kütuse liik | B23: Kütuse tihedus* | C23: Ühik | D23: Kogus m3 | E23: Kogus t
A24: Bensiin | B24: =AVERAGE(725,780) -> 752.5 | C24: kg/m3 | D24: 1 | E24: =D24*B24/1000 -> 0.7525
A25: Diisel | B25: =AVERAGE(820,860,800,845) -> 831.25 | C25: kg/m3 | D25: 479.059 | E25: =D25*B25/1000 -> 398.21779
A26: * - allikas: Vedelkütuste kvaliteedinõuded, riigi teataja
A27: https://www.riigiteataja.ee/akt/174925

Sheet Preemiategur
A1: Siia lehele lisada vajadusel tuuleenergia preemiateguri arvutuskäik koos lähteanmeid tõendavate viidetega. Vajadusel lisada taotlusele viitete andmeid tõendav dokumentasioon.
A2: Juhised arvutuseks on toodud KOMISJONI RAKENDUSMÄÄRUS (EL) 2024/2031
A3: https://eur-lex.europa.eu/legal-content/ET/TXT/PDF/?uri=CELEX:32023R1805
A4: I Lisa, lk 42
B6: Pwind | C6: Pprop | D6: Pwind/Pprop | E6: fwind
B7: lisada arvutuskäik väärtuse leidmiseks | C7: lisada arvutuskäik väärtuse leidmiseks | D7: =IFERROR(B7/C7," ") | E7: =IFERROR(IF(D7+D13,E13,_xlfn.FORECAST.LINEAR(D7,D11:D13,E11:E13)),1) -> 1
D9: Abitabel
D10: Pwind/Pprop | E10: fwind
D11: 0.05 | E11: 0.99
D12: 0.01 | E12: 0.97
D13: 0.015 | E13: 0.95

Sheet EEDI
A1: Siia lehele lisada laeva renoveerimisjärgse EEDI prognoosi arvutuskäik
A2: Arvutuskäiguks vajalikud juhised on toodud MEPC.328(76) regulatsioonis 24
A3: Viide: | B3: MEPC 76-15-Add.1 - Report Of The Marine...eventy-Sixth Session (Secretariat).pdf
A4: EEDI | B4: 0 | C4: Selgitus - sellesse lahtrisse sisestada EEDI arvutuste käigus saadud lõppväärtus. Arvutuskäik esitada käesoleval lehel koos viidetega andmete algallikatele. Vajadusel lisada taotlusele tõendav dokumentatsioon.
C5: Ilma CO2 heitmeta laev
